BEGIN:VCALENDAR
VERSION:2.0
PRODID:-// - ECPv6.15.20//NONSGML v1.0//EN
CALSCALE:GREGORIAN
METHOD:PUBLISH
X-ORIGINAL-URL:https://www.shielbagganoec.com
X-WR-CALDESC:Events for 
REFRESH-INTERVAL;VALUE=DURATION:PT1H
X-Robots-Tag:noindex
X-PUBLISHED-TTL:PT1H
BEGIN:VTIMEZONE
TZID:Europe/Dublin
BEGIN:DAYLIGHT
TZOFFSETFROM:+0000
TZOFFSETTO:+0100
TZNAME:IST
DTSTART:20240331T010000
END:DAYLIGHT
BEGIN:STANDARD
TZOFFSETFROM:+0100
TZOFFSETTO:+0000
TZNAME:GMT
DTSTART:20241027T010000
END:STANDARD
BEGIN:DAYLIGHT
TZOFFSETFROM:+0000
TZOFFSETTO:+0100
TZNAME:IST
DTSTART:20250330T010000
END:DAYLIGHT
BEGIN:STANDARD
TZOFFSETFROM:+0100
TZOFFSETTO:+0000
TZNAME:GMT
DTSTART:20251026T010000
END:STANDARD
BEGIN:DAYLIGHT
TZOFFSETFROM:+0000
TZOFFSETTO:+0100
TZNAME:IST
DTSTART:20260329T010000
END:DAYLIGHT
BEGIN:STANDARD
TZOFFSETFROM:+0100
TZOFFSETTO:+0000
TZNAME:GMT
DTSTART:20261025T010000
END:STANDARD
END:VTIMEZONE
BEGIN:VEVENT
DTSTART;TZID=Europe/Dublin:20250809T093000
DTEND;TZID=Europe/Dublin:20250809T110000
DTSTAMP:20260420T001035
CREATED:20250619T121751Z
LAST-MODIFIED:20250619T121751Z
UID:14249-1754731800-1754737200@www.shielbagganoec.com
SUMMARY:54648- Fun in the Sun - Bunclody Hub 9.30-11am
DESCRIPTION:Over an of hour of Sit on Top Kayaking “Fun on the Water”\nOn the Water at the Bunclody Adventure Hub\nArrive 10mins before your session\nBring old trainers (must be a full shoe) to get wet and get-wet clothes (wetsuit if you have one) and a towel.
URL:https://www.shielbagganoec.com/event/54648-fun-in-the-sun-bunclody-hub-9-30-11am/
LOCATION:Y21 W5F7\, Ryland Road\, Bunclody\, Y21 W5F7\, Ireland
CATEGORIES:Bunclody
ATTACH;FMTTYPE=image/jpeg:https://www.shielbagganoec.com/wp-content/uploads/2022/06/IMG_3010-1-scaled.jpg
ORGANIZER;CN="WWETB Outdoor Education":MAILTO:oe@wwetb.ie
END:VEVENT
BEGIN:VEVENT
DTSTART;TZID=Europe/Dublin:20250809T113000
DTEND;TZID=Europe/Dublin:20250809T130000
DTSTAMP:20260420T001035
CREATED:20250619T122342Z
LAST-MODIFIED:20250619T122342Z
UID:14252-1754739000-1754744400@www.shielbagganoec.com
SUMMARY:54652 - Fun In the Sun - Bunclody Hub 11.30-1pm
DESCRIPTION:Over an of hour of Sit on Top Kayaking “Fun on the Water”\nOn the Water at the Bunclody Adventure Hub\nArrive 10mins before your session\nBring old trainers (must be a full shoe) to get wet and get-wet clothes (wetsuit if you have one) and a towel.
URL:https://www.shielbagganoec.com/event/54652-fun-in-the-sun-bunclody-hub-11-30-1pm/
LOCATION:Y21 W5F7\, Ryland Road\, Bunclody\, Y21 W5F7\, Ireland
CATEGORIES:Bunclody
ATTACH;FMTTYPE=image/jpeg:https://www.shielbagganoec.com/wp-content/uploads/2022/06/IMG_3010-scaled.jpg
ORGANIZER;CN="WWETB Outdoor Education":MAILTO:oe@wwetb.ie
END:VEVENT
END:VCALENDAR