BEGIN:VCALENDAR
VERSION:2.0
PRODID:-// - ECPv6.15.20//NONSGML v1.0//EN
CALSCALE:GREGORIAN
METHOD:PUBLISH
X-ORIGINAL-URL:https://www.shielbagganoec.com
X-WR-CALDESC:Events for 
REFRESH-INTERVAL;VALUE=DURATION:PT1H
X-Robots-Tag:noindex
X-PUBLISHED-TTL:PT1H
BEGIN:VTIMEZONE
TZID:Europe/Dublin
BEGIN:DAYLIGHT
TZOFFSETFROM:+0000
TZOFFSETTO:+0100
TZNAME:IST
DTSTART:20230326T010000
END:DAYLIGHT
BEGIN:STANDARD
TZOFFSETFROM:+0100
TZOFFSETTO:+0000
TZNAME:GMT
DTSTART:20231029T010000
END:STANDARD
BEGIN:DAYLIGHT
TZOFFSETFROM:+0000
TZOFFSETTO:+0100
TZNAME:IST
DTSTART:20240331T010000
END:DAYLIGHT
BEGIN:STANDARD
TZOFFSETFROM:+0100
TZOFFSETTO:+0000
TZNAME:GMT
DTSTART:20241027T010000
END:STANDARD
BEGIN:DAYLIGHT
TZOFFSETFROM:+0000
TZOFFSETTO:+0100
TZNAME:IST
DTSTART:20250330T010000
END:DAYLIGHT
BEGIN:STANDARD
TZOFFSETFROM:+0100
TZOFFSETTO:+0000
TZNAME:GMT
DTSTART:20251026T010000
END:STANDARD
END:VTIMEZONE
BEGIN:VEVENT
DTSTART;TZID=Europe/Dublin:20240812T093000
DTEND;TZID=Europe/Dublin:20240816T160000
DTSTAMP:20260420T205926
CREATED:20240611T115705Z
LAST-MODIFIED:20240725T135854Z
UID:13601-1723455000-1723824000@www.shielbagganoec.com
SUMMARY:49662  Adventure Week Ramsgrange 12 -16th August 9.30-4.00 12-15yrs
DESCRIPTION:Aimed at children aged 12 to 15\,  please see a sample of the activities that participates will enjoy in our  Adventure Camp Programme.\n(Programmes may change to make the best of the weather)\n\nMONDAY AM Team Challenge PM Sea Kayaking\nTUESDAY AM Coasteering/ Surfing  PM Orienteering\nWEDNESDAY AM WW Kayaking PM WW Kayaking River Barrow trip\, 2 weirs & 2 rapids\nTHURSDAY AM High Ropes Course PM Caving\nFRIDAY AM Coasteering PM Forest games
URL:https://www.shielbagganoec.com/event/49662-adventure-week-ramsgrange-12-16-august-9-30-4-00-12-15yrs/
LOCATION:Shielbaggan Outdoor Education Centre\, Shielbaggan Outdoor Education Centre\, Ramsgrange\, Co. Wexford\, Y34 FK03\, Ireland
CATEGORIES:SOETC
ATTACH;FMTTYPE=image/jpeg:https://www.shielbagganoec.com/wp-content/uploads/2015/11/DSCF3796-Large.jpg
ORGANIZER;CN="WWETB Outdoor Education":MAILTO:oe@wwetb.ie
END:VEVENT
END:VCALENDAR