BEGIN:VCALENDAR
VERSION:2.0
PRODID:-// - ECPv6.15.20//NONSGML v1.0//EN
CALSCALE:GREGORIAN
METHOD:PUBLISH
X-ORIGINAL-URL:https://www.shielbagganoec.com
X-WR-CALDESC:Events for 
REFRESH-INTERVAL;VALUE=DURATION:PT1H
X-Robots-Tag:noindex
X-PUBLISHED-TTL:PT1H
BEGIN:VTIMEZONE
TZID:Europe/Dublin
BEGIN:DAYLIGHT
TZOFFSETFROM:+0000
TZOFFSETTO:+0100
TZNAME:IST
DTSTART:20240331T010000
END:DAYLIGHT
BEGIN:STANDARD
TZOFFSETFROM:+0100
TZOFFSETTO:+0000
TZNAME:GMT
DTSTART:20241027T010000
END:STANDARD
BEGIN:DAYLIGHT
TZOFFSETFROM:+0000
TZOFFSETTO:+0100
TZNAME:IST
DTSTART:20250330T010000
END:DAYLIGHT
BEGIN:STANDARD
TZOFFSETFROM:+0100
TZOFFSETTO:+0000
TZNAME:GMT
DTSTART:20251026T010000
END:STANDARD
BEGIN:DAYLIGHT
TZOFFSETFROM:+0000
TZOFFSETTO:+0100
TZNAME:IST
DTSTART:20260329T010000
END:DAYLIGHT
BEGIN:STANDARD
TZOFFSETFROM:+0100
TZOFFSETTO:+0000
TZNAME:GMT
DTSTART:20261025T010000
END:STANDARD
BEGIN:DAYLIGHT
TZOFFSETFROM:+0000
TZOFFSETTO:+0100
TZNAME:IST
DTSTART:20270328T010000
END:DAYLIGHT
BEGIN:STANDARD
TZOFFSETFROM:+0100
TZOFFSETTO:+0000
TZNAME:GMT
DTSTART:20271031T010000
END:STANDARD
END:VTIMEZONE
BEGIN:VEVENT
DTSTART;TZID=Europe/Dublin:20250705T093000
DTEND;TZID=Europe/Dublin:20250705T110000
DTSTAMP:20260424T003334
CREATED:20250619T112046Z
LAST-MODIFIED:20250619T112046Z
UID:14234-1751707800-1751713200@www.shielbagganoec.com
SUMMARY:53298- Fun in the Sun - Bunclody Hub -9.30-11am Ages 10-15
DESCRIPTION:Over an of hour of Sit on Top Kayaking “Fun on the Water”\nOn the Water at the Bunclody Adventure Hub\nArrive 10mins before your session\nBring old trainers (must be a full shoe) to get wet and get-wet clothes (wetsuit if you have one) and a towel.
URL:https://www.shielbagganoec.com/event/53298-fun-in-the-sun-bunclody-hub-9-30-11am-ages-10-15/
LOCATION:Y21 W5F7\, Ryland Road\, Bunclody\, Y21 W5F7\, Ireland
CATEGORIES:Bunclody
ATTACH;FMTTYPE=image/jpeg:https://www.shielbagganoec.com/wp-content/uploads/2022/06/IMG_3010-1-scaled.jpg
ORGANIZER;CN="WWETB Outdoor Education":MAILTO:oe@wwetb.ie
END:VEVENT
BEGIN:VEVENT
DTSTART;TZID=Europe/Dublin:20250705T113000
DTEND;TZID=Europe/Dublin:20250705T130000
DTSTAMP:20260424T003334
CREATED:20250619T115030Z
LAST-MODIFIED:20250619T115030Z
UID:14238-1751715000-1751720400@www.shielbagganoec.com
SUMMARY:54650-Fun in the Sun - Bunclody Hub - 11.30-1pm 10-15 year olds
DESCRIPTION:Over an of hour of Sit on Top Kayaking “Fun on the Water”\nOn the Water at the Bunclody Adventure Hub\nArrive 10mins before your session\nBring old trainers (must be a full shoe) to get wet and get-wet clothes (wetsuit if you have one) and a towel.
URL:https://www.shielbagganoec.com/event/54650-fun-in-the-sun-bunclody-hub-11-30-1pm-10-15-year-olds/
LOCATION:Y21 W5F7\, Ryland Road\, Bunclody\, Y21 W5F7\, Ireland
CATEGORIES:Bunclody
ATTACH;FMTTYPE=image/jpeg:https://www.shielbagganoec.com/wp-content/uploads/2022/06/IMG_3010-1-scaled.jpg
ORGANIZER;CN="WWETB Outdoor Education":MAILTO:oe@wwetb.ie
END:VEVENT
BEGIN:VEVENT
DTSTART;TZID=Europe/Dublin:20250714T093000
DTEND;TZID=Europe/Dublin:20250718T163000
DTSTAMP:20260424T003334
CREATED:20250319T094617Z
LAST-MODIFIED:20250319T094617Z
UID:14007-1752485400-1752856200@www.shielbagganoec.com
SUMMARY:52921- Adventure Camp 12-15 year old - 14th 18th of July - 9.30am-4pm
DESCRIPTION:Aimed at children aged 12 to 15\,  please see a sample of the activities that participates will enjoy in our  Adventure Camp Programme. \n(Programmes may change to make the best of the weather) \nMONDAY AM Team Challenge PM Sea Kayaking \nTUESDAY AM Coasteering/ Surfing  PM Orienteering \nWEDNESDAY AM Kayaking PM  Kayaking River Barrow trip\, 2 weirs & 2 rapids \nTHURSDAY AM High Ropes Course PM Caving \nFRIDAY AM Coasteering PM Forest games
URL:https://www.shielbagganoec.com/event/52921-adventure-camp-12-15-year-old-14th-18th-of-july-9-30am-4pm/
LOCATION:Shielbaggan Outdoor Education Centre\, Shielbaggan Outdoor Education Centre\, Ramsgrange\, Co. Wexford\, Y34 FK03\, Ireland
CATEGORIES:SOETC
ATTACH;FMTTYPE=image/jpeg:https://www.shielbagganoec.com/wp-content/uploads/2016/11/banner-summer-camps.jpg
ORGANIZER;CN="WWETB Outdoor Education":MAILTO:oe@wwetb.ie
END:VEVENT
BEGIN:VEVENT
DTSTART;TZID=Europe/Dublin:20250719T093000
DTEND;TZID=Europe/Dublin:20250719T110000
DTSTAMP:20260424T003334
CREATED:20250619T120459Z
LAST-MODIFIED:20250619T120459Z
UID:14241-1752917400-1752922800@www.shielbagganoec.com
SUMMARY:52659- Fun in the Sun - Bunclody Hub 9.30-11.00
DESCRIPTION:Over an of hour of Sit on Top Kayaking “Fun on the Water”\nOn the Water at the Bunclody Adventure Hub\nArrive 10mins before your session\nBring old trainers (must be a full shoe) to get wet and get-wet clothes (wetsuit if you have one) and a towel.
URL:https://www.shielbagganoec.com/event/52659-fun-in-the-sun-bunclody-hub-9-30-11-00/
LOCATION:Y21 W5F7\, Ryland Road\, Bunclody\, Y21 W5F7\, Ireland
CATEGORIES:Bunclody
ATTACH;FMTTYPE=image/jpeg:https://www.shielbagganoec.com/wp-content/uploads/2022/06/IMG_3010-1-scaled.jpg
ORGANIZER;CN="WWETB Outdoor Education":MAILTO:oe@wwetb.ie
END:VEVENT
BEGIN:VEVENT
DTSTART;TZID=Europe/Dublin:20250719T113000
DTEND;TZID=Europe/Dublin:20250719T130000
DTSTAMP:20260424T003334
CREATED:20250619T121458Z
LAST-MODIFIED:20250619T121458Z
UID:14246-1752924600-1752930000@www.shielbagganoec.com
SUMMARY:54651- Fun in the Sun - Bunclody Hub -11.30-1pm
DESCRIPTION:Over an of hour of Sit on Top Kayaking “Fun on the Water”\nOn the Water at the Bunclody Adventure Hub\nArrive 10mins before your session\nBring old trainers (must be a full shoe) to get wet and get-wet clothes (wetsuit if you have one) and a towel.
URL:https://www.shielbagganoec.com/event/54651-fun-in-the-sun-bunclody-hub-11-30-1pm/
LOCATION:Y21 W5F7\, Ryland Road\, Bunclody\, Y21 W5F7\, Ireland
CATEGORIES:Bunclody
ATTACH;FMTTYPE=image/jpeg:https://www.shielbagganoec.com/wp-content/uploads/2022/06/IMG_3010-scaled.jpg
ORGANIZER;CN="WWETB Outdoor Education":MAILTO:oe@wwetb.ie
END:VEVENT
BEGIN:VEVENT
DTSTART;TZID=Europe/Dublin:20250723T100000
DTEND;TZID=Europe/Dublin:20250725T123000
DTSTAMP:20260424T003334
CREATED:20250206T114144Z
LAST-MODIFIED:20250206T114144Z
UID:13979-1753264800-1753446600@www.shielbagganoec.com
SUMMARY:52646-  Kayaking Summer Camp - Bunclody Hub - 23th July -25th July for 10-15 years old
DESCRIPTION:Wednesday23rd 10:00am – 12:30pm\nThursday 24th 10:00am – 12:30pm\nFriday 25th 10:00am – 12:30pm\n\n3 mornings of Sit on Top Kayaking\, Stand up Paddle Boarding\, Swimming\, River Safety Rescue techniques and building water confidence in a safe environment with lots of fun supervised by a qualified Kayak Instructor.\nWe provide shortie wetsuits\, helmets and bouyancy aids.\nPlease bring with you old runners (must be a full shoe) for the water\, swimsuit\, lots of snacks and something to drink.
URL:https://www.shielbagganoec.com/event/52646-kayaking-summer-camp-bunclody-hub-23th-july-25th-july-for-10-15-years-old/
LOCATION:Y21 W5F7\, Ryland Road\, Bunclody\, Y21 W5F7\, Ireland
ATTACH;FMTTYPE=image/jpeg:https://www.shielbagganoec.com/wp-content/uploads/2025/02/Bunclody-Kayaking-scaled.jpg
ORGANIZER;CN="WWETB Outdoor Education":MAILTO:oe@wwetb.ie
END:VEVENT
BEGIN:VEVENT
DTSTART;TZID=Europe/Dublin:20250809T093000
DTEND;TZID=Europe/Dublin:20250809T110000
DTSTAMP:20260424T003334
CREATED:20250619T121751Z
LAST-MODIFIED:20250619T121751Z
UID:14249-1754731800-1754737200@www.shielbagganoec.com
SUMMARY:54648- Fun in the Sun - Bunclody Hub 9.30-11am
DESCRIPTION:Over an of hour of Sit on Top Kayaking “Fun on the Water”\nOn the Water at the Bunclody Adventure Hub\nArrive 10mins before your session\nBring old trainers (must be a full shoe) to get wet and get-wet clothes (wetsuit if you have one) and a towel.
URL:https://www.shielbagganoec.com/event/54648-fun-in-the-sun-bunclody-hub-9-30-11am/
LOCATION:Y21 W5F7\, Ryland Road\, Bunclody\, Y21 W5F7\, Ireland
CATEGORIES:Bunclody
ATTACH;FMTTYPE=image/jpeg:https://www.shielbagganoec.com/wp-content/uploads/2022/06/IMG_3010-1-scaled.jpg
ORGANIZER;CN="WWETB Outdoor Education":MAILTO:oe@wwetb.ie
END:VEVENT
BEGIN:VEVENT
DTSTART;TZID=Europe/Dublin:20250809T113000
DTEND;TZID=Europe/Dublin:20250809T130000
DTSTAMP:20260424T003334
CREATED:20250619T122342Z
LAST-MODIFIED:20250619T122342Z
UID:14252-1754739000-1754744400@www.shielbagganoec.com
SUMMARY:54652 - Fun In the Sun - Bunclody Hub 11.30-1pm
DESCRIPTION:Over an of hour of Sit on Top Kayaking “Fun on the Water”\nOn the Water at the Bunclody Adventure Hub\nArrive 10mins before your session\nBring old trainers (must be a full shoe) to get wet and get-wet clothes (wetsuit if you have one) and a towel.
URL:https://www.shielbagganoec.com/event/54652-fun-in-the-sun-bunclody-hub-11-30-1pm/
LOCATION:Y21 W5F7\, Ryland Road\, Bunclody\, Y21 W5F7\, Ireland
CATEGORIES:Bunclody
ATTACH;FMTTYPE=image/jpeg:https://www.shielbagganoec.com/wp-content/uploads/2022/06/IMG_3010-scaled.jpg
ORGANIZER;CN="WWETB Outdoor Education":MAILTO:oe@wwetb.ie
END:VEVENT
BEGIN:VEVENT
DTSTART;TZID=Europe/Dublin:20250811T093000
DTEND;TZID=Europe/Dublin:20250815T160000
DTSTAMP:20260424T003334
CREATED:20250319T101643Z
LAST-MODIFIED:20250319T101643Z
UID:14018-1754904600-1755273600@www.shielbagganoec.com
SUMMARY:52923- Junior Adventure Camp - Ages 8-11\, 11th -15th of August
DESCRIPTION:Aimed at children aged 8 to 11\,  please see a sample of the activities that participants will enjoy in our Junior  Adventure Camp Programme. \n(Programmes may change to make the best of the weather) \n  \nMONDAY AM Team Challenge PM Sea Kayaking \nTUESDAY AM Coasteering/ Surfing  PM Orienteering \nWEDNESDAY AM WW Kayaking PM WW Kayaking River Barrow trip\, 2 weirs & 2 rapids \nTHURSDAY AM High Ropes Course PM Caving \nFRIDAY AM Coasteering PM Forest games
URL:https://www.shielbagganoec.com/event/52923-junior-adventure-camp-ages-8-11-11th-15th-of-august/
LOCATION:Shielbaggan Outdoor Education Centre\, Shielbaggan Outdoor Education Centre\, Ramsgrange\, Co. Wexford\, Y34 FK03\, Ireland
CATEGORIES:SOETC
ATTACH;FMTTYPE=image/jpeg:https://www.shielbagganoec.com/wp-content/uploads/2015/11/4.jpg
ORGANIZER;CN="WWETB Outdoor Education":MAILTO:oe@wwetb.ie
END:VEVENT
BEGIN:VEVENT
DTSTART;TZID=Europe/Dublin:20250820T100000
DTEND;TZID=Europe/Dublin:20250822T123000
DTSTAMP:20260424T003334
CREATED:20250206T115909Z
LAST-MODIFIED:20250206T115909Z
UID:13983-1755684000-1755865800@www.shielbagganoec.com
SUMMARY:52647- Summer Kayaking Camp- Bunclody Hub 20th -22nd August\,  10-15 year old
DESCRIPTION:Wednesday 20th 10:00am – 12:30pm\nThursday 21st  10:00am – 12:30pm\nFriday 22nd 10:00am – 12:30pm\n\n3 mornings of Sit on Top Kayaking\, Stand up Paddle Boarding\, Swimming\, River Safety Rescue techniques and building water confidence in a safe environment with lots of fun supervised by a qualified Kayak Instructor.\nWe provide shortie wetsuits\, helmets and bouyancy aids.\nPlease bring with you old runners (must be a full shoe) for the water\, swimsuit\, lots of snacks and something to drink.
URL:https://www.shielbagganoec.com/event/52647-summer-kayaking-camp-bunclody-hub-20th-22nd-august-10-15-year-old/
LOCATION:Y21 W5F7\, Ryland Road\, Bunclody\, Y21 W5F7\, Ireland
ATTACH;FMTTYPE=image/jpeg:https://www.shielbagganoec.com/wp-content/uploads/2025/02/Bunclody-Kayaking-scaled.jpg
ORGANIZER;CN="WWETB Outdoor Education":MAILTO:oe@wwetb.ie
END:VEVENT
BEGIN:VEVENT
DTSTART;TZID=Europe/Dublin:20250823T093000
DTEND;TZID=Europe/Dublin:20250823T110000
DTSTAMP:20260424T003334
CREATED:20250619T122859Z
LAST-MODIFIED:20250619T122859Z
UID:14255-1755941400-1755946800@www.shielbagganoec.com
SUMMARY:54649- Fun In the Sun - Bunclody Hub -9.30-11am
DESCRIPTION:Over an of hour of Sit on Top Kayaking “Fun on the Water”\nOn the Water at the Bunclody Adventure Hub\nArrive 10mins before your session\nBring old trainers (must be a full shoe) to get wet and get-wet clothes (wetsuit if you have one) and a towel.
URL:https://www.shielbagganoec.com/event/54649-fun-in-the-sun-bunclody-hub-9-30-11am/
LOCATION:Y21 W5F7\, Ryland Road\, Bunclody\, Y21 W5F7\, Ireland
CATEGORIES:Bunclody
ATTACH;FMTTYPE=image/jpeg:https://www.shielbagganoec.com/wp-content/uploads/2022/06/IMG_3010-scaled.jpg
ORGANIZER;CN="WWETB Outdoor Education":MAILTO:oe@wwetb.ie
END:VEVENT
BEGIN:VEVENT
DTSTART;TZID=Europe/Dublin:20250823T113000
DTEND;TZID=Europe/Dublin:20250823T130000
DTSTAMP:20260424T003334
CREATED:20250619T123648Z
LAST-MODIFIED:20250619T123648Z
UID:14258-1755948600-1755954000@www.shielbagganoec.com
SUMMARY:54653- Fun in the Sun - Bunclody Hub -11.30-1pm
DESCRIPTION:Over an of hour of Sit on Top Kayaking “Fun on the Water”\nOn the Water at the Bunclody Adventure Hub\nArrive 10mins before your session\nBring old trainers (must be a full shoe) to get wet and get-wet clothes (wetsuit if you have one) and a towel.
URL:https://www.shielbagganoec.com/event/54653-fun-in-the-sun-bunclody-hub-11-30-1pm/
LOCATION:Y21 W5F7\, Ryland Road\, Bunclody\, Y21 W5F7\, Ireland
CATEGORIES:Bunclody
ATTACH;FMTTYPE=image/jpeg:https://www.shielbagganoec.com/wp-content/uploads/2022/06/IMG_3010-scaled.jpg
ORGANIZER;CN="WWETB Outdoor Education":MAILTO:oe@wwetb.ie
END:VEVENT
BEGIN:VEVENT
DTSTART;TZID=Europe/Dublin:20260810T093000
DTEND;TZID=Europe/Dublin:20260814T160000
DTSTAMP:20260424T003334
CREATED:20251007T105110Z
LAST-MODIFIED:20251007T105126Z
UID:14656-1786354200-1786723200@www.shielbagganoec.com
SUMMARY:55323-Adventure Camp - Monday 10th - Friday 14th August\, 9.30am-4pm
DESCRIPTION:Our Adventure Camp will run from Monday 10th – Friday 14th August 2026\, 9.30am-4pm each day.  Aimed at those aged 10 to 16\,  please see a sample of the activities that participates will enjoy in our  Adventure Camp Programme.  The programme will run from our Ramsgrange centre.  \n(Programmes may change to make the best of the weather) \nMONDAY AM Team Challenge PM Sea Kayaking \nTUESDAY AM Coasteering/ Surfing  PM Orienteering \nWEDNESDAY AM Kayaking PM  Kayaking River Barrow trip\, 2 weirs & 2 rapids \nTHURSDAY AM High Ropes Course PM Caving \nFRIDAY AM Coasteering PM Forest games
URL:https://www.shielbagganoec.com/event/55323-adventure-camp-monday-10th-friday-14th-august-9-30am-4pm/
LOCATION:Shielbaggan Outdoor Education Centre\, Shielbaggan Outdoor Education Centre\, Ramsgrange\, Co. Wexford\, Y34 FK03\, Ireland
CATEGORIES:SOETC
ATTACH;FMTTYPE=image/jpeg:https://www.shielbagganoec.com/wp-content/uploads/2016/11/banner-summer-camps.jpg
ORGANIZER;CN="WWETB Outdoor Education":MAILTO:oe@wwetb.ie
END:VEVENT
END:VCALENDAR