BEGIN:VCALENDAR
VERSION:2.0
PRODID:-// - ECPv6.15.20//NONSGML v1.0//EN
CALSCALE:GREGORIAN
METHOD:PUBLISH
X-ORIGINAL-URL:https://www.shielbagganoec.com
X-WR-CALDESC:Events for 
REFRESH-INTERVAL;VALUE=DURATION:PT1H
X-Robots-Tag:noindex
X-PUBLISHED-TTL:PT1H
BEGIN:VTIMEZONE
TZID:Europe/Dublin
BEGIN:DAYLIGHT
TZOFFSETFROM:+0000
TZOFFSETTO:+0100
TZNAME:IST
DTSTART:20210328T010000
END:DAYLIGHT
BEGIN:STANDARD
TZOFFSETFROM:+0100
TZOFFSETTO:+0000
TZNAME:GMT
DTSTART:20211031T010000
END:STANDARD
BEGIN:DAYLIGHT
TZOFFSETFROM:+0000
TZOFFSETTO:+0100
TZNAME:IST
DTSTART:20220327T010000
END:DAYLIGHT
BEGIN:STANDARD
TZOFFSETFROM:+0100
TZOFFSETTO:+0000
TZNAME:GMT
DTSTART:20221030T010000
END:STANDARD
BEGIN:DAYLIGHT
TZOFFSETFROM:+0000
TZOFFSETTO:+0100
TZNAME:IST
DTSTART:20230326T010000
END:DAYLIGHT
BEGIN:STANDARD
TZOFFSETFROM:+0100
TZOFFSETTO:+0000
TZNAME:GMT
DTSTART:20231029T010000
END:STANDARD
BEGIN:DAYLIGHT
TZOFFSETFROM:+0000
TZOFFSETTO:+0100
TZNAME:IST
DTSTART:20240331T010000
END:DAYLIGHT
BEGIN:STANDARD
TZOFFSETFROM:+0100
TZOFFSETTO:+0000
TZNAME:GMT
DTSTART:20241027T010000
END:STANDARD
BEGIN:DAYLIGHT
TZOFFSETFROM:+0000
TZOFFSETTO:+0100
TZNAME:IST
DTSTART:20250330T010000
END:DAYLIGHT
BEGIN:STANDARD
TZOFFSETFROM:+0100
TZOFFSETTO:+0000
TZNAME:GMT
DTSTART:20251026T010000
END:STANDARD
END:VTIMEZONE
BEGIN:VEVENT
DTSTART;TZID=Europe/Dublin:20240622T093000
DTEND;TZID=Europe/Dublin:20240622T110000
DTSTAMP:20260419T215126
CREATED:20240523T094336Z
LAST-MODIFIED:20240523T094445Z
UID:13513-1719048600-1719054000@www.shielbagganoec.com
SUMMARY:50072(8) Fun on the water June 22nd 9.30-11.00 ~ 10-13yrs
DESCRIPTION:Over an of hour of Sit on Top Kayaking “Fun on the Water”\nOn the Water at the Bunclody Adventure Hub\nArrive 10mins before your session\nBring old trainers (must be a full shoe) to get wet and get-wet clothes (wetsuit if you have one) and a towel.
URL:https://www.shielbagganoec.com/event/500728-fun-on-the-water-june-22nd-9-30-11-00-10-13yrs/
LOCATION:Y21 W5F7\, Ryland Road\, Bunclody\, Y21 W5F7\, Ireland
CATEGORIES:Bunclody
ATTACH;FMTTYPE=image/jpeg:https://www.shielbagganoec.com/wp-content/uploads/2022/04/Bun.jpg
ORGANIZER;CN="WWETB Outdoor Education":MAILTO:oe@wwetb.ie
END:VEVENT
BEGIN:VEVENT
DTSTART;TZID=Europe/Dublin:20240420T090000
DTEND;TZID=Europe/Dublin:20240420T170000
DTSTAMP:20260419T215126
CREATED:20240322T151010Z
LAST-MODIFIED:20240415T111147Z
UID:13483-1713603600-1713632400@www.shielbagganoec.com
SUMMARY:50415(12) kayak Academy River Trip 17+
DESCRIPTION:River trip on the Barrow with Dave and Jacob \nClashganny to Graigue \nBus depart at 9.00 or meet in Clash at 10.00 \nCost €25 \nHelmets\, paddles and boats provided. If not meeting at the centre for the bus you must communicate with Dave on WhatsApp for wetsuits etc. \nLimited to first 12 to book. Non refundable. \nBring snacks and drink (Cake for Dave!)
URL:https://www.shielbagganoec.com/event/5041512-kayak-academy-river-trip-17/
LOCATION:clashganny
CATEGORIES:SOETC
ATTACH;FMTTYPE=image/jpeg:https://www.shielbagganoec.com/wp-content/uploads/2022/06/IMG_2711-scaled.jpg
ORGANIZER;CN="WWETB Outdoor Education":MAILTO:oe@wwetb.ie
END:VEVENT
BEGIN:VEVENT
DTSTART;TZID=Europe/Dublin:20230930T113000
DTEND;TZID=Europe/Dublin:20230930T130000
DTSTAMP:20260419T215126
CREATED:20230901T141500Z
LAST-MODIFIED:20230901T141540Z
UID:13424-1696073400-1696078800@www.shielbagganoec.com
SUMMARY:46623(8) Fun on the water September 30th  11:30-13.00 ~ 10-16yrs
DESCRIPTION:Over an of hour of Sit on Top Kayaking “Fun on the Water”\nOn the Water at the Bunclody Adventure Hub\nArrive 10mins before your session\nBring old trainers (must be a full shoe) to get wet and get-wet clothes (wetsuit if you have one) and a towel.
URL:https://www.shielbagganoec.com/event/466238-fun-on-the-water-september-30th-1130-13-00-10-16yrs/
LOCATION:Y21 W5F7\, Ryland Road\, Bunclody\, Y21 W5F7\, Ireland
CATEGORIES:Bunclody
ORGANIZER;CN="WWETB Outdoor Education":MAILTO:oe@wwetb.ie
END:VEVENT
BEGIN:VEVENT
DTSTART;TZID=Europe/Dublin:20230930T093000
DTEND;TZID=Europe/Dublin:20230930T110000
DTSTAMP:20260419T215126
CREATED:20230901T141009Z
LAST-MODIFIED:20230901T141045Z
UID:13421-1696066200-1696071600@www.shielbagganoec.com
SUMMARY:46623(8) Fun on the water September 30th 9.30-11.00 ~ 10-16yrs
DESCRIPTION:Over an of hour of Sit on Top Kayaking “Fun on the Water”\nOn the Water at the Bunclody Adventure Hub\nArrive 10mins before your session\nBring old trainers (must be a full shoe) to get wet and get-wet clothes (wetsuit if you have one) and a towel.
URL:https://www.shielbagganoec.com/event/466238-fun-on-the-water-september-30th-9-30-11-00-10-16yrs/
LOCATION:Y21 W5F7\, Ryland Road\, Bunclody\, Y21 W5F7\, Ireland
CATEGORIES:Bunclody
ORGANIZER;CN="WWETB Outdoor Education":MAILTO:oe@wwetb.ie
END:VEVENT
BEGIN:VEVENT
DTSTART;TZID=Europe/Dublin:20230916T113000
DTEND;TZID=Europe/Dublin:20230916T130000
DTSTAMP:20260419T215126
CREATED:20230901T140225Z
LAST-MODIFIED:20230901T140300Z
UID:13418-1694863800-1694869200@www.shielbagganoec.com
SUMMARY:46622(8) Fun on the water September 16th 11:30-13.00 ~ 10-16yrs
DESCRIPTION:Over an of hour of Sit on Top Kayaking “Fun on the Water”\nOn the Water at the Bunclody Adventure Hub\nArrive 10mins before your session\nBring old trainers (must be a full shoe) to get wet and get-wet clothes (wetsuit if you have one) and a towel.
URL:https://www.shielbagganoec.com/event/466228-fun-on-the-water-september-16th-1130-13-00-10-16yrs/
LOCATION:Y21 W5F7\, Ryland Road\, Bunclody\, Y21 W5F7\, Ireland
CATEGORIES:Bunclody
ORGANIZER;CN="WWETB Outdoor Education":MAILTO:oe@wwetb.ie
END:VEVENT
BEGIN:VEVENT
DTSTART;TZID=Europe/Dublin:20230916T093000
DTEND;TZID=Europe/Dublin:20230916T110000
DTSTAMP:20260419T215126
CREATED:20230901T135811Z
LAST-MODIFIED:20230901T135852Z
UID:13415-1694856600-1694862000@www.shielbagganoec.com
SUMMARY:46622(8) Fun on the water September 16th 9.30-11.00 ~ 10-16yrs
DESCRIPTION:Over an of hour of Sit on Top Kayaking “Fun on the Water”\nOn the Water at the Bunclody Adventure Hub\nArrive 10mins before your session\nBring old trainers (must be a full shoe) to get wet and get-wet clothes (wetsuit if you have one) and a towel.
URL:https://www.shielbagganoec.com/event/466228-fun-on-the-water-september-16th-9-30-11-00-10-16yrs/
LOCATION:Y21 W5F7\, Ryland Road\, Bunclody\, Y21 W5F7\, Ireland
CATEGORIES:Bunclody
ORGANIZER;CN="WWETB Outdoor Education":MAILTO:oe@wwetb.ie
END:VEVENT
BEGIN:VEVENT
DTSTART;TZID=Europe/Dublin:20230909T093000
DTEND;TZID=Europe/Dublin:20230909T153000
DTSTAMP:20260419T215126
CREATED:20230824T152318Z
LAST-MODIFIED:20230908T085537Z
UID:13385-1694251800-1694273400@www.shielbagganoec.com
SUMMARY:48372 Kayak Academy River Trip
DESCRIPTION:River trip From Clashganny to Graiguenamanagh \nMeet at Clash for 09.30\, off the water by 15.00 approx. \nInform Dave of any equipment needed. \nBring Snacks and a lunch for on the river. \nThere will be a bus leaving from the Centre at 08.30 at the latest meet at the Centre for 08.15.
URL:https://www.shielbagganoec.com/event/48372-kayak-academy-river-trip/
LOCATION:Shielbaggan Outdoor Education Centre\, Shielbaggan Outdoor Education Centre\, Ramsgrange\, Co. Wexford\, Y34 FK03\, Ireland
CATEGORIES:SOETC
ORGANIZER;CN="WWETB Outdoor Education":MAILTO:oe@wwetb.ie
END:VEVENT
BEGIN:VEVENT
DTSTART;TZID=Europe/Dublin:20230902T113000
DTEND;TZID=Europe/Dublin:20230902T130000
DTSTAMP:20260419T215126
CREATED:20230830T152121Z
LAST-MODIFIED:20230830T152152Z
UID:13397-1693654200-1693659600@www.shielbagganoec.com
SUMMARY:46621(8) Fun on the water September 2nd 11:30-13.00 ~ 10-13yrs
DESCRIPTION:Over an of hour of Sit on Top Kayaking “Fun on the Water”\nOn the Water at the Bunclody Adventure Hub\nArrive 10mins before your session\nBring old trainers (must be a full shoe) to get wet and get-wet clothes (wetsuit if you have one) and a towel. \n 
URL:https://www.shielbagganoec.com/event/466218-fun-on-the-water-september-2nd-1130-13-00-10-13yrs/
LOCATION:Shielbaggan Outdoor Education Centre\, Shielbaggan Outdoor Education Centre\, Ramsgrange\, Co. Wexford\, Y34 FK03\, Ireland
CATEGORIES:Bunclody
ORGANIZER;CN="WWETB Outdoor Education":MAILTO:oe@wwetb.ie
END:VEVENT
BEGIN:VEVENT
DTSTART;TZID=Europe/Dublin:20230902T093000
DTEND;TZID=Europe/Dublin:20230902T110000
DTSTAMP:20260419T215126
CREATED:20230830T151526Z
LAST-MODIFIED:20230830T152322Z
UID:13394-1693647000-1693652400@www.shielbagganoec.com
SUMMARY:46621(8) Fun on the water September 2nd 9.30-11.00 ~ 10-13yrs
DESCRIPTION:Over an of hour of Sit on Top Kayaking “Fun on the Water”\nOn the Water at the Bunclody Adventure Hub\nArrive 10mins before your session\nBring old trainers (must be a full shoe) to get wet and get-wet clothes (wetsuit if you have one) and a towel.
URL:https://www.shielbagganoec.com/event/466218-fun-on-the-water-september-2nd-9-30-11-00-10-13yrs/
LOCATION:Y21 W5F7\, Ryland Road\, Bunclody\, Y21 W5F7\, Ireland
CATEGORIES:Bunclody
ORGANIZER;CN="WWETB Outdoor Education":MAILTO:oe@wwetb.ie
END:VEVENT
BEGIN:VEVENT
DTSTART;TZID=Europe/Dublin:20230816T133000
DTEND;TZID=Europe/Dublin:20230818T160000
DTSTAMP:20260419T215126
CREATED:20230503T132812Z
LAST-MODIFIED:20230824T153155Z
UID:12927-1692192600-1692374400@www.shielbagganoec.com
SUMMARY:46631(8) Summer Camp 16th - 18th August 13:30-16:00pm 13-17yrs
DESCRIPTION:Wednesday 16th 1:30pm-4:00pm\nThursday 17th 1:30pm-4:00pm\nFriday 18th 1:30pm-4:00pm\n\n3 afternoons of Sit on Top Kayaking\, Stand up Paddle Boarding\, Swimming\, River Safety Rescue techniques and building water confidence in a safe environment with lots of fun supervised by a qualified Kayak Instructor.\nWe provide shortie wetsuits\, helmets and bouyancy aids.\nPlease bring with you\, old runners (must be a full shoe) for the water\, swimsuit\, lots of snacks and something to drink.
URL:https://www.shielbagganoec.com/event/466318-summer-camp-16th-18th-august-1330-1400pm-14-17yrs/
LOCATION:Y21 W5F7\, Ryland Road\, Bunclody\, Y21 W5F7\, Ireland
CATEGORIES:Bunclody
ORGANIZER;CN="WWETB Outdoor Education":MAILTO:oe@wwetb.ie
END:VEVENT
BEGIN:VEVENT
DTSTART;TZID=Europe/Dublin:20230809T133000
DTEND;TZID=Europe/Dublin:20230809T160000
DTSTAMP:20260419T215126
CREATED:20230503T132004Z
LAST-MODIFIED:20230705T144237Z
UID:12922-1691587800-1691596800@www.shielbagganoec.com
SUMMARY:46630(8) Summer Camp 9th - 11th August 13:30-16:00pm 13-17yrs
DESCRIPTION:Wednesday 9th 1:30pm-4:00pm\nThursday 10th 1:30pm-4:00pm\nFriday 11th 1:30pm-4:00pm\n\n3 afternoons of Sit on Top Kayaking\, Stand up Paddle Boarding\, Swimming\, River Safety Rescue techniques and building water confidence in a safe environment with lots of fun supervised by a qualified Kayak Instructor.\nWe provide shortie wetsuits\, helmets and bouyancy aids.\nPlease bring with you\, old runners (must be a full shoe) for the water\, swimsuit\, lots of snacks and something to drink.
URL:https://www.shielbagganoec.com/event/466308-summer-camp-9th-11th-august-1330-1600pm-14-17yrs/
LOCATION:Y21 W5F7\, Ryland Road\, Bunclody\, Y21 W5F7\, Ireland
CATEGORIES:Bunclody
ORGANIZER;CN="WWETB Outdoor Education":MAILTO:oe@wwetb.ie
END:VEVENT
BEGIN:VEVENT
DTSTART;TZID=Europe/Dublin:20230805T113000
DTEND;TZID=Europe/Dublin:20230805T130000
DTSTAMP:20260419T215126
CREATED:20230508T132607Z
LAST-MODIFIED:20230508T132631Z
UID:13051-1691235000-1691240400@www.shielbagganoec.com
SUMMARY:46619(8) Fun on the water August 5th 11.30-13.00 ~ 10-13yrs
DESCRIPTION:Over an of hour of Sit on Top Kayaking “Fun on the Water”\nOn the Water at the Bunclody Adventure Hub\nArrive 10mins before your session\nBring old trainers (must be a full shoe) to get wet and get-wet clothes (wetsuit if you have one) and a towel. \n 
URL:https://www.shielbagganoec.com/event/466198-fun-on-the-water-august-5th-11-30-13-00-10-13yrs/
LOCATION:Y21 W5F7\, Ryland Road\, Bunclody\, Y21 W5F7\, Ireland
CATEGORIES:Bunclody
ORGANIZER;CN="WWETB Outdoor Education":MAILTO:oe@wwetb.ie
END:VEVENT
BEGIN:VEVENT
DTSTART;TZID=Europe/Dublin:20230805T093000
DTEND;TZID=Europe/Dublin:20230805T110000
DTSTAMP:20260419T215126
CREATED:20230508T132225Z
LAST-MODIFIED:20230728T161035Z
UID:13048-1691227800-1691233200@www.shielbagganoec.com
SUMMARY:46619(8) Fun on the water August 5th 9.30-11.00 ~ 10-13yrs
DESCRIPTION:Over an of hour of Sit on Top Kayaking “Fun on the Water”\nOn the Water at the Bunclody Adventure Hub\nArrive 10mins before your session\nBring old trainers (must be a full shoe) to get wet and get-wet clothes (wetsuit if you have one) and a towel. \n 
URL:https://www.shielbagganoec.com/event/466198-fun-on-the-water-august-5th-9-30-11-00-10-13yrs/
LOCATION:Y21 W5F7\, Ryland Road\, Bunclody\, Y21 W5F7\, Ireland
CATEGORIES:Bunclody
ORGANIZER;CN="WWETB Outdoor Education":MAILTO:oe@wwetb.ie
END:VEVENT
BEGIN:VEVENT
DTSTART;TZID=Europe/Dublin:20230722T113000
DTEND;TZID=Europe/Dublin:20230722T130000
DTSTAMP:20260419T215126
CREATED:20230508T130533Z
LAST-MODIFIED:20230628T093705Z
UID:13040-1690025400-1690030800@www.shielbagganoec.com
SUMMARY:46618(8) Fun on the water July 22nd 11.30-13.00 ~ 10-13yrs
DESCRIPTION:Over an of hour of Sit on Top Kayaking “Fun on the Water”\nOn the Water at the Bunclody Adventure Hub\nArrive 10mins before your session\nBring old trainers (must be a full shoe) to get wet and get-wet clothes (wetsuit if you have one) and a towel.
URL:https://www.shielbagganoec.com/event/466188-fun-on-the-water-july-22nd-11-30-13-00-10-13yrs/
LOCATION:Y21 W5F7\, Ryland Road\, Bunclody\, Y21 W5F7\, Ireland
CATEGORIES:Bunclody
ORGANIZER;CN="WWETB Outdoor Education":MAILTO:oe@wwetb.ie
END:VEVENT
BEGIN:VEVENT
DTSTART;TZID=Europe/Dublin:20230722T093000
DTEND;TZID=Europe/Dublin:20230722T110000
DTSTAMP:20260419T215126
CREATED:20230508T130225Z
LAST-MODIFIED:20230628T093632Z
UID:13037-1690018200-1690023600@www.shielbagganoec.com
SUMMARY:46618(8) Fun on the water July 22nd 9.30-11.00 ~ 10-13yrs
DESCRIPTION:Over an of hour of Sit on Top Kayaking “Fun on the Water”\nOn the Water at the Bunclody Adventure Hub\nArrive 10mins before your session\nBring old trainers (must be a full shoe) to get wet and get-wet clothes (wetsuit if you have one) and a towel.
URL:https://www.shielbagganoec.com/event/466188-fun-on-the-water-july-22nd-9-30-11-00-10-13yrs/
LOCATION:Y21 W5F7\, Ryland Road\, Bunclody\, Y21 W5F7\, Ireland
CATEGORIES:Bunclody
ORGANIZER;CN="WWETB Outdoor Education":MAILTO:oe@wwetb.ie
END:VEVENT
BEGIN:VEVENT
DTSTART;TZID=Europe/Dublin:20230719T133000
DTEND;TZID=Europe/Dublin:20230719T160000
DTSTAMP:20260419T215126
CREATED:20230503T131109Z
LAST-MODIFIED:20230704T153844Z
UID:12916-1689773400-1689782400@www.shielbagganoec.com
SUMMARY:46629(8) Summer Camp 19th - 21st July 13:30-16:00pm 13-17yrs
DESCRIPTION:Wednesday 19th 1:30pm-4:00pm\nThursday 20th 1:30pm-4:00pm\nFriday 21st 1:30pm-4:00pm\n\n3 afternoons of Sit on Top Kayaking\, Stand up Paddle Boarding\, Swimming\, River Safety Rescue techniques and building water confidence in a safe environment with lots of fun supervised by a qualified Kayak Instructor.\nWe provide shortie wetsuits\, helmets and bouyancy aids.\nPlease bring with you\, old runners (must be a full shoe) for the water\, swimsuit\, lots of snacks and something to drink.
URL:https://www.shielbagganoec.com/event/466298-summer-camp-19th-21st-july-1330-1600pm-14-17yrs/
LOCATION:Y21 W5F7\, Ryland Road\, Bunclody\, Y21 W5F7\, Ireland
CATEGORIES:Bunclody
ORGANIZER;CN="WWETB Outdoor Education":MAILTO:oe@wwetb.ie
END:VEVENT
BEGIN:VEVENT
DTSTART;TZID=Europe/Dublin:20230719T100000
DTEND;TZID=Europe/Dublin:20230719T122000
DTSTAMP:20260419T215126
CREATED:20230503T130717Z
LAST-MODIFIED:20230504T094713Z
UID:12913-1689760800-1689769200@www.shielbagganoec.com
SUMMARY:46629(8) Summer Camp 19th - 21st July 10am-12:20pm 10-13yrs
DESCRIPTION:3 mornings of Sit on Top Kayaking\, Stand up Paddle Boarding\, Swimming\, River Safety Rescue techniques and building water confidence in a safe environment with lots of fun supervised by a qualified Kayak Instructor.\nWe provide shortie wetsuits\, helmets and bouyancy aids.\nPlease bring with you\, old runners (must be a full shoe) for the water\, swimsuit\, lots of snacks and something to drink.
URL:https://www.shielbagganoec.com/event/466298-summer-camp-19th-21st-july-10am-1220pm-10-13yrs/
LOCATION:Y21 W5F7\, Ryland Road\, Bunclody\, Y21 W5F7\, Ireland
ORGANIZER;CN="WWETB Outdoor Education":MAILTO:oe@wwetb.ie
END:VEVENT
BEGIN:VEVENT
DTSTART;TZID=Europe/Dublin:20230712T140000
DTEND;TZID=Europe/Dublin:20230712T160000
DTSTAMP:20260419T215126
CREATED:20230502T145750Z
LAST-MODIFIED:20230704T153933Z
UID:12906-1689170400-1689177600@www.shielbagganoec.com
SUMMARY:46628(8) Summer Camp 12th – 14th July 13:30-16:00pm 13-17yrs
DESCRIPTION:Wednesday 1:30pm-4:00pm\nThursday 1:30pm-4:00pm\nFriday 1:30pm-4:00pm\n\n3 afternoons of Sit on Top Kayaking\, Stand up Paddle Boarding\, Swimming\, River Safety Rescue techniques and building water confidence in a safe environment and lots of fun with qualified Kayak Instructors. \nWe provide shortie wetsuits\, helmets and bouyancy aids. \nPlease bring with you\, old runners (must be a full shoe) for the water\, swimsuit\, lots of snacks and something to drink.
URL:https://www.shielbagganoec.com/event/466288-summer-camp-12th-14th-july-1330-1630pm-14-17yrs/
LOCATION:Y21 W5F7\, Ryland Road\, Bunclody\, Y21 W5F7\, Ireland
CATEGORIES:Bunclody
ORGANIZER;CN="WWETB Outdoor Education":MAILTO:oe@wwetb.ie
END:VEVENT
BEGIN:VEVENT
DTSTART;TZID=Europe/Dublin:20230712T100000
DTEND;TZID=Europe/Dublin:20230712T122000
DTSTAMP:20260419T215126
CREATED:20230502T112340Z
LAST-MODIFIED:20230628T092949Z
UID:12859-1689156000-1689164400@www.shielbagganoec.com
SUMMARY:46628(8) Summer Camp 12th - 14th July 10am-12:20pm 10-13yrs
DESCRIPTION:Wednesday 12th 10am-12:20pm\nThursday 13th 10am-12:20pm\nFriday 14th 10am-12:20pm\n\n3 mornings of Sit on Top Kayaking\, Stand up Paddle Boarding\, Swimming\, River Safety Rescue techniques and building water confidence in a safe environment with lots of fun supervised by a qualified Kayak Instructor. \nWe provide shortie wetsuits\, helmets and bouyancy aids. \nPlease bring with you\, old runners (must be a full shoe) for the water\, swimsuit\, lots of snacks and something to drink.
URL:https://www.shielbagganoec.com/event/466288-summer-camp-10am-1220pm-10-13yrs/
LOCATION:Y21 W5F7\, Ryland Road\, Bunclody\, Y21 W5F7\, Ireland
CATEGORIES:Bunclody
ORGANIZER;CN="WWETB Outdoor Education":MAILTO:oe@wwetb.ie
END:VEVENT
BEGIN:VEVENT
DTSTART;TZID=Europe/Dublin:20230708T113000
DTEND;TZID=Europe/Dublin:20230708T130000
DTSTAMP:20260419T215126
CREATED:20230508T123332Z
LAST-MODIFIED:20230628T092734Z
UID:13031-1688815800-1688821200@www.shielbagganoec.com
SUMMARY:46617(8) Fun on the water July 8th 11.30-13:00 ~ 10-13yrs
DESCRIPTION:Over an of hour of Sit on Top Kayaking “Fun on the Water”\nOn the Water at the Bunclody Adventure Hub\nArrive 10mins before your session\nBring old trainers (must be a full shoe) to get wet and get-wet clothes (wetsuit if you have one) and a towel.
URL:https://www.shielbagganoec.com/event/466178-fun-on-the-water-july-8th-11-30-1300-10-13yrs/
LOCATION:Y21 W5F7\, Ryland Road\, Bunclody\, Y21 W5F7\, Ireland
CATEGORIES:Bunclody
ORGANIZER;CN="WWETB Outdoor Education":MAILTO:oe@wwetb.ie
END:VEVENT
BEGIN:VEVENT
DTSTART;TZID=Europe/Dublin:20230708T093000
DTEND;TZID=Europe/Dublin:20230708T110000
DTSTAMP:20260419T215126
CREATED:20230508T122932Z
LAST-MODIFIED:20230628T092638Z
UID:13028-1688808600-1688814000@www.shielbagganoec.com
SUMMARY:46617(8) Fun on the water July 8th 9.30-11.00 ~ 10-13yrs
DESCRIPTION:Over an of hour of Sit on Top Kayaking “Fun on the Water”\nOn the Water at the Bunclody Adventure Hub\nArrive 10mins before your session\nBring old trainers (must be a full shoe) to get wet and get-wet clothes (wetsuit if you have one) and a towel.
URL:https://www.shielbagganoec.com/event/466178-fun-on-the-water-july-8th-9-30-11-00-10-13yrs/
LOCATION:Y21 W5F7\, Ryland Road\, Bunclody\, Y21 W5F7\, Ireland
CATEGORIES:Bunclody
ORGANIZER;CN="WWETB Outdoor Education":MAILTO:oe@wwetb.ie
END:VEVENT
BEGIN:VEVENT
DTSTART;TZID=Europe/Dublin:20230610T133000
DTEND;TZID=Europe/Dublin:20230610T143000
DTSTAMP:20260419T215126
CREATED:20230530T142047Z
LAST-MODIFIED:20230530T142108Z
UID:13130-1686403800-1686407400@www.shielbagganoec.com
SUMMARY:46615(8) Fun on the Water  ~ June 10th > 1:30pm-2:30pm
DESCRIPTION:An of hour of Sit on Top Kayaking  “Fun on the Water” \nOn the Water at the Bunclody Adventure Hub \nArrive 10mins before your session \nBring old trainers (must be a full shoe) to get wet and get-wet clothes (wetsuit if you have one) and a towel.
URL:https://www.shielbagganoec.com/event/466158-fun-on-the-water-june-10th-130pm-230pm/
LOCATION:Y21 W5F7\, Ryland Road\, Bunclody\, Y21 W5F7\, Ireland
CATEGORIES:Bunclody
ORGANIZER;CN="WWETB Outdoor Education":MAILTO:oe@wwetb.ie
END:VEVENT
BEGIN:VEVENT
DTSTART;TZID=Europe/Dublin:20230610T113000
DTEND;TZID=Europe/Dublin:20230610T130000
DTSTAMP:20260419T215126
CREATED:20230528T103404Z
LAST-MODIFIED:20230528T104643Z
UID:13096-1686396600-1686402000@www.shielbagganoec.com
SUMMARY:46615(8) Fun on the Water  ~ June 10th > 11.30-13:00
DESCRIPTION:Over an of hour of Sit on Top Kayaking “Fun on the Water”\nOn the Water at the Bunclody Adventure Hub\nArrive 10mins before your session\nBring old trainers (must be a full shoe) to get wet and get-wet clothes (wetsuit if you have one) and a towel.
URL:https://www.shielbagganoec.com/event/466158-fun-on-the-water-june-10th-11-30-1300-2/
LOCATION:Y21 W5F7\, Ryland Road\, Bunclody\, Y21 W5F7\, Ireland
CATEGORIES:Bunclody
ATTACH;FMTTYPE=image/jpeg:https://www.shielbagganoec.com/wp-content/uploads/2022/04/Bun.jpg
ORGANIZER;CN="WWETB Outdoor Education":MAILTO:oe@wwetb.ie
END:VEVENT
BEGIN:VEVENT
DTSTART;TZID=Europe/Dublin:20230610T093000
DTEND;TZID=Europe/Dublin:20230610T110000
DTSTAMP:20260419T215126
CREATED:20230502T073039Z
LAST-MODIFIED:20230530T141720Z
UID:12856-1686389400-1686394800@www.shielbagganoec.com
SUMMARY:46615(8) Fun on the Water  ~ June 10th > 9.30-11.00
DESCRIPTION:Over an of hour of Sit on Top Kayaking “Fun on the Water”\nOn the Water at the Bunclody Adventure Hub\nArrive 10mins before your session\nBring old trainers (must be a full shoe) to get wet and get-wet clothes (wetsuit if you have one) and a towel.
URL:https://www.shielbagganoec.com/event/fun-on-the-water-june-10th-9-30-11-00-2/
LOCATION:Y21 W5F7\, Ryland Road\, Bunclody\, Y21 W5F7\, Ireland
CATEGORIES:Bunclody
ATTACH;FMTTYPE=image/jpeg:https://www.shielbagganoec.com/wp-content/uploads/2022/04/Bun.jpg
ORGANIZER;CN="WWETB Outdoor Education":MAILTO:oe@wwetb.ie
END:VEVENT
BEGIN:VEVENT
DTSTART;TZID=Europe/Dublin:20230527T113000
DTEND;TZID=Europe/Dublin:20230527T130000
DTSTAMP:20260419T215126
CREATED:20230502T140917Z
LAST-MODIFIED:20230524T133631Z
UID:12893-1685187000-1685192400@www.shielbagganoec.com
SUMMARY:46614(8) Fun on the Water ~ May 27th > 11.30-13.00 ~ 10-13yrs
DESCRIPTION:Over an of hour of Sit on Top Kayaking “Fun on the Water”\nOn the Water at the Bunclody Adventure Hub\nArrive 10mins before your session\nBring old trainers (must be a full shoe) to get wet and get-wet clothes (wetsuit if you have one) and a towel.
URL:https://www.shielbagganoec.com/event/466148-fun-on-the-water-may-27th-11-30-13-00/
LOCATION:Y21 W5F7\, Ryland Road\, Bunclody\, Y21 W5F7\, Ireland
CATEGORIES:Bunclody
ORGANIZER;CN="WWETB Outdoor Education":MAILTO:oe@wwetb.ie
END:VEVENT
BEGIN:VEVENT
DTSTART;TZID=Europe/Dublin:20230527T093000
DTEND;TZID=Europe/Dublin:20230527T110000
DTSTAMP:20260419T215126
CREATED:20230502T072847Z
LAST-MODIFIED:20230524T133515Z
UID:12853-1685179800-1685185200@www.shielbagganoec.com
SUMMARY:46614(8) Fun on the Water ~ May 27th > 9.30-11.00 ~ 10-13yrs
DESCRIPTION:Over an of hour paddling session “Fun on the Water” \nOn the Water at the Bunclody Adventure Hub \nArrive 10min before your session \nBring old trainers to get wet (must be a full shoe) and get wet clothes (wetsuit if you have one) and a towel
URL:https://www.shielbagganoec.com/event/fun-on-the-water-may-27th-9-30-11-00/
LOCATION:Y21 W5F7\, Ryland Road\, Bunclody\, Y21 W5F7\, Ireland
CATEGORIES:Bunclody
ATTACH;FMTTYPE=image/jpeg:https://www.shielbagganoec.com/wp-content/uploads/2022/04/Bun.jpg
ORGANIZER;CN="WWETB Outdoor Education":MAILTO:oe@wwetb.ie
END:VEVENT
BEGIN:VEVENT
DTSTART;TZID=Europe/Dublin:20230513T113000
DTEND;TZID=Europe/Dublin:20230513T130000
DTSTAMP:20260419T215126
CREATED:20230502T134608Z
LAST-MODIFIED:20230508T104736Z
UID:12882-1683977400-1683982800@www.shielbagganoec.com
SUMMARY:46613(8) Fun on the water May 13th 11:30-13:00 ~ 10-13yrs
DESCRIPTION:Over an of hour of Sit on Top Kayaking “Fun on the Water”\nOn the Water at the Bunclody Adventure Hub\nArrive 10mins before your session\nBring old trainers (must be a full shoe) to get wet and get-wet clothes (wetsuit if you have one) and a towel.
URL:https://www.shielbagganoec.com/event/466138-fun-on-the-water-may-13th-1130-1300/
LOCATION:Y21 W5F7\, Ryland Road\, Bunclody\, Y21 W5F7\, Ireland
CATEGORIES:Bunclody
ORGANIZER;CN="WWETB Outdoor Education":MAILTO:oe@wwetb.ie
END:VEVENT
BEGIN:VEVENT
DTSTART;TZID=Europe/Dublin:20230513T093000
DTEND;TZID=Europe/Dublin:20230513T110000
DTSTAMP:20260419T215126
CREATED:20230425T104900Z
LAST-MODIFIED:20230508T115134Z
UID:12842-1683970200-1683975600@www.shielbagganoec.com
SUMMARY:46613(8) Fun on the water May 13th 9.30-11.00 ~ 10-13yrs
DESCRIPTION:Over an of hour of Sit on Top Kayaking  “Fun on the Water” \nOn the Water at the Bunclody Adventure Hub \nArrive 10mins before your session \nBring old trainers (must be a full shoe) to get wet and get-wet clothes (wetsuit if you have one) and a towel.
URL:https://www.shielbagganoec.com/event/fun-on-the-water/
LOCATION:Y21 W5F7\, Ryland Road\, Bunclody\, Y21 W5F7\, Ireland
CATEGORIES:Bunclody
ATTACH;FMTTYPE=image/jpeg:https://www.shielbagganoec.com/wp-content/uploads/2022/04/Bun.jpg
ORGANIZER;CN="WWETB Outdoor Education":MAILTO:oe@wwetb.ie
END:VEVENT
BEGIN:VEVENT
DTSTART;TZID=Europe/Dublin:20230509T080000
DTEND;TZID=Europe/Dublin:20230509T170000
DTSTAMP:20260419T215126
CREATED:20230509T134827Z
LAST-MODIFIED:20230509T134845Z
UID:13064-1683619200-1683651600@www.shielbagganoec.com
SUMMARY:46620(6) Progression to Closed Cockpit Kayaks August 19th 2023 2pm-4pm
DESCRIPTION:A 2 hour paddling session in closed cockpit Kayaks\,.\nThis is the start of gaining moving water skills.\nYou must have some experience of paddling at the hub before enrolling \, ring 051389550 if you are unsure.\nOn the Water at the Bunclody Adventure Hub\nopen to everyone aged 12+
URL:https://www.shielbagganoec.com/event/466206-progression-to-closed-cockpit-kayaks-august-19th-2023-2pm-4pm/
LOCATION:Shielbaggan Outdoor Education Centre\, Shielbaggan Outdoor Education Centre\, Ramsgrange\, Co. Wexford\, Y34 FK03\, Ireland
ORGANIZER;CN="WWETB Outdoor Education":MAILTO:oe@wwetb.ie
END:VEVENT
BEGIN:VEVENT
DTSTART;TZID=Europe/Dublin:20220817T133000
DTEND;TZID=Europe/Dublin:20220819T160000
DTSTAMP:20260419T215126
CREATED:20220614T100331Z
LAST-MODIFIED:20220614T100432Z
UID:12574-1660743000-1660924800@www.shielbagganoec.com
SUMMARY:42751 Paddlesports Summer Camp Afternoon 1.30-4.00pm (Age 14+)
DESCRIPTION:Paddlesports camp. Kayaking\, Stand up paddleboards. This camp will be working towards skills acquisition. \nLots of fun in and on the water . These camps aim to give participants a memorable paddling experience in a fun and safe environment whilst giving a good foundation in paddlesport. Also these are great for meeting others and water confidence. \nStudents will be supplied with all technical equipment needed such as a wetsuit\, buoyancy aid or personal flotation device (PFD)\, helmet and cagoule or windproof jacket however as Kayaking is a wet sport there is a real possibility course participants will get wet during the sessions so each participant is advised to bring with them the following personal gear \n\nTowel\nSwimwear – bring your own wetsuit if you have one.\nThermal top or t-shirt\nSuitable footwear – bootees or an old pair of runners
URL:https://www.shielbagganoec.com/event/42751-paddlesports-summer-camp-afternoon-1-30-4-00pm-age-14/
LOCATION:Y21 W5F7\, Ryland Road\, Bunclody\, Y21 W5F7\, Ireland
CATEGORIES:Bunclody
ATTACH;FMTTYPE=image/jpeg:https://www.shielbagganoec.com/wp-content/uploads/2022/04/Bun.jpg
ORGANIZER;CN="WWETB Outdoor Education":MAILTO:oe@wwetb.ie
END:VEVENT
END:VCALENDAR