BEGIN:VCALENDAR
VERSION:2.0
PRODID:-// - ECPv6.15.20//NONSGML v1.0//EN
CALSCALE:GREGORIAN
METHOD:PUBLISH
X-ORIGINAL-URL:https://www.shielbagganoec.com
X-WR-CALDESC:Events for 
REFRESH-INTERVAL;VALUE=DURATION:PT1H
X-Robots-Tag:noindex
X-PUBLISHED-TTL:PT1H
BEGIN:VTIMEZONE
TZID:Europe/Dublin
BEGIN:DAYLIGHT
TZOFFSETFROM:+0000
TZOFFSETTO:+0100
TZNAME:IST
DTSTART:20210328T010000
END:DAYLIGHT
BEGIN:STANDARD
TZOFFSETFROM:+0100
TZOFFSETTO:+0000
TZNAME:GMT
DTSTART:20211031T010000
END:STANDARD
BEGIN:DAYLIGHT
TZOFFSETFROM:+0000
TZOFFSETTO:+0100
TZNAME:IST
DTSTART:20220327T010000
END:DAYLIGHT
BEGIN:STANDARD
TZOFFSETFROM:+0100
TZOFFSETTO:+0000
TZNAME:GMT
DTSTART:20221030T010000
END:STANDARD
BEGIN:DAYLIGHT
TZOFFSETFROM:+0000
TZOFFSETTO:+0100
TZNAME:IST
DTSTART:20230326T010000
END:DAYLIGHT
BEGIN:STANDARD
TZOFFSETFROM:+0100
TZOFFSETTO:+0000
TZNAME:GMT
DTSTART:20231029T010000
END:STANDARD
END:VTIMEZONE
BEGIN:VEVENT
DTSTART;TZID=Europe/Dublin:20220625T100000
DTEND;TZID=Europe/Dublin:20220625T160000
DTSTAMP:20260424T125730
CREATED:20220614T120939Z
LAST-MODIFIED:20220615T132116Z
UID:12590-1656151200-1656172800@www.shielbagganoec.com
SUMMARY:44109 Bunclody Paddle-Sports Club Level 3 skills training
DESCRIPTION:Level 3 Skills development day for Bunclody Paddle-Sports Club \nBased at Clashganny on the Barrow \nAdults only any queries contact the club
URL:https://www.shielbagganoec.com/event/44109-bunclody-paddle-sports-club-level-3-skills-training/
LOCATION:clashganny
CATEGORIES:Bunclody
ATTACH;FMTTYPE=image/jpeg:https://www.shielbagganoec.com/wp-content/uploads/2022/06/IMG_3010-scaled.jpg
ORGANIZER;CN="WWETB Outdoor Education":MAILTO:oe@wwetb.ie
END:VEVENT
BEGIN:VEVENT
DTSTART;TZID=Europe/Dublin:20220618T140000
DTEND;TZID=Europe/Dublin:20220618T160000
DTSTAMP:20260424T125730
CREATED:20220602T083655Z
LAST-MODIFIED:20220614T101554Z
UID:12508-1655560800-1655568000@www.shielbagganoec.com
SUMMARY:42731(10) 14+ Closed Cockpit Kayaking 2pm-4pm
DESCRIPTION:2 weeks of sessions 18th & 25th June \n2 hour paddling sessions \nThis is the start of gaining moving water skills \nYou must have some experience of paddling at the hub before enrolling \, ring 051389550 if you are unsure. \nOn the Water at the Bunclody Adventure Hub
URL:https://www.shielbagganoec.com/event/4273110-16-closed-cockpit-kayaking-2pm-4pm/
LOCATION:Y21 W5F7\, Ryland Road\, Bunclody\, Y21 W5F7\, Ireland
CATEGORIES:Bunclody
ATTACH;FMTTYPE=image/jpeg:https://www.shielbagganoec.com/wp-content/uploads/2016/11/banner-schools.jpg
ORGANIZER;CN="WWETB Outdoor Education":MAILTO:oe@wwetb.ie
END:VEVENT
BEGIN:VEVENT
DTSTART;TZID=Europe/Dublin:20220618T120000
DTEND;TZID=Europe/Dublin:20220618T130000
DTSTAMP:20260424T125730
CREATED:20220602T083031Z
LAST-MODIFIED:20220614T102719Z
UID:12505-1655553600-1655557200@www.shielbagganoec.com
SUMMARY:42731(7) Wet and Wild 12.00-13.00
DESCRIPTION:3 weeks of sessions 11th June\, 18th June and 25th June \n1 hour paddling sessions “Wet and Wild” \nOn the Water at the Bunclody Adventure Hub \nArrive 15min before your session \nBring old trainers to get wet and get wet clothes (wetsuit if you have one) and a towel
URL:https://www.shielbagganoec.com/event/427317-wet-and-wild-12-00-13-00/
LOCATION:Y21 W5F7\, Ryland Road\, Bunclody\, Y21 W5F7\, Ireland
CATEGORIES:Bunclody
ATTACH;FMTTYPE=image/jpeg:https://www.shielbagganoec.com/wp-content/uploads/2022/04/Bun.jpg
ORGANIZER;CN="WWETB Outdoor Education":MAILTO:oe@wwetb.ie
END:VEVENT
BEGIN:VEVENT
DTSTART;TZID=Europe/Dublin:20220618T104500
DTEND;TZID=Europe/Dublin:20220618T114500
DTSTAMP:20260424T125730
CREATED:20220602T082653Z
LAST-MODIFIED:20220614T102642Z
UID:12502-1655549100-1655552700@www.shielbagganoec.com
SUMMARY:42731(7) Wet and Wild 10.45-11.45
DESCRIPTION:3 weeks of sessions 11th June\, 18th June and 25th June \n1 hour paddling sessions “Wet and Wild” \nOn the Water at the Bunclody Adventure Hub \nArrive 15min before your session \nBring old trainers to get wet and get wet clothes (wetsuit if you have one) and a towel
URL:https://www.shielbagganoec.com/event/427317-wet-and-wild-10-45-11-45/
LOCATION:Y21 W5F7\, Ryland Road\, Bunclody\, Y21 W5F7\, Ireland
CATEGORIES:Bunclody
ATTACH;FMTTYPE=image/jpeg:https://www.shielbagganoec.com/wp-content/uploads/2022/04/Bun.jpg
ORGANIZER;CN="WWETB Outdoor Education":MAILTO:oe@wwetb.ie
END:VEVENT
BEGIN:VEVENT
DTSTART;TZID=Europe/Dublin:20220611T093000
DTEND;TZID=Europe/Dublin:20220611T223000
DTSTAMP:20260424T125730
CREATED:20220602T081853Z
LAST-MODIFIED:20220603T210502Z
UID:12498-1654939800-1654986600@www.shielbagganoec.com
SUMMARY:42731(7) Wet and Wild 9.30-10.30
DESCRIPTION:3 weeks of sessions 11th June\, 18th June and 25th June \n1 hour paddling sessions “Wet and Wild” \nOn the Water at the Bunclody Adventure Hub \nArrive 15min before your session \nBring old trainers to get wet and get wet clothes (wetsuit if you have one) and a towel
URL:https://www.shielbagganoec.com/event/427317-wet-and-wild-9-30-10-30/
LOCATION:Y21 W5F7\, Ryland Road\, Bunclody\, Y21 W5F7\, Ireland
CATEGORIES:Bunclody
ATTACH;FMTTYPE=image/jpeg:https://www.shielbagganoec.com/wp-content/uploads/2022/04/Bun.jpg
ORGANIZER;CN="WWETB Outdoor Education":MAILTO:oe@wwetb.ie
END:VEVENT
BEGIN:VEVENT
DTSTART;TZID=Europe/Dublin:20220528T120000
DTEND;TZID=Europe/Dublin:20220528T130000
DTSTAMP:20260424T125730
CREATED:20220516T160031Z
LAST-MODIFIED:20230425T104600Z
UID:12434-1653739200-1653742800@www.shielbagganoec.com
SUMMARY:Wet and Wild 12.00-13.00
DESCRIPTION:3 weeks of sessions 21st may\, 28th may and 4th June \n1 hour paddling sessions “Wet and Wild” \nOn the Water at the Bunclody Adventure Hub \nArrive 15min before your session \nBring old trainers to get wet and get wet clothes (wetsuit if you have one) and a towel
URL:https://www.shielbagganoec.com/event/wet-and-wild-12-00-13-00/
LOCATION:Y21 W5F7\, Ryland Road\, Bunclody\, Y21 W5F7\, Ireland
CATEGORIES:Bunclody
ATTACH;FMTTYPE=image/jpeg:https://www.shielbagganoec.com/wp-content/uploads/2022/04/Bun.jpg
ORGANIZER;CN="WWETB Outdoor Education":MAILTO:oe@wwetb.ie
END:VEVENT
BEGIN:VEVENT
DTSTART;TZID=Europe/Dublin:20220528T104500
DTEND;TZID=Europe/Dublin:20220528T114500
DTSTAMP:20260424T125730
CREATED:20220516T155830Z
LAST-MODIFIED:20230425T104339Z
UID:12431-1653734700-1653738300@www.shielbagganoec.com
SUMMARY:Wet and Wild 10.45-11.45
DESCRIPTION:3 weeks of sessions 21st may\, 28th may and 4th June \n1 hour paddling sessions “Wet and Wild” \nOn the Water at the Bunclody Adventure Hub \nArrive 15min before your session \nBring old trainers to get wet and get wet clothes (wetsuit if you have one) and a towel
URL:https://www.shielbagganoec.com/event/wet-and-wild-10-45-11-45/
LOCATION:Y21 W5F7\, Ryland Road\, Bunclody\, Y21 W5F7\, Ireland
CATEGORIES:Bunclody
ATTACH;FMTTYPE=image/jpeg:https://www.shielbagganoec.com/wp-content/uploads/2022/04/Bun.jpg
ORGANIZER;CN="WWETB Outdoor Education":MAILTO:oe@wwetb.ie
END:VEVENT
BEGIN:VEVENT
DTSTART;TZID=Europe/Dublin:20220528T093000
DTEND;TZID=Europe/Dublin:20220528T103000
DTSTAMP:20260424T125730
CREATED:20220509T143111Z
LAST-MODIFIED:20230425T103918Z
UID:12413-1653730200-1653733800@www.shielbagganoec.com
SUMMARY:Wet and Wild 9.30-10.30
DESCRIPTION:3 weeks of sessions 21st may\, 28th may and 4th June \n1 hour paddling sessions “Wet and Wild” \nOn the Water at the Bunclody Adventure Hub \nArrive 15min before your session \nBring old trainers to get wet and get wet clothes (wetsuit if you have one) and a towel
URL:https://www.shielbagganoec.com/event/wet-and-wild-9-30-10-30/
LOCATION:Y21 W5F7\, Ryland Road\, Bunclody\, Y21 W5F7\, Ireland
CATEGORIES:Bunclody
ATTACH;FMTTYPE=image/jpeg:https://www.shielbagganoec.com/wp-content/uploads/2022/04/Bun.jpg
ORGANIZER;CN="WWETB Outdoor Education":MAILTO:oe@wwetb.ie
END:VEVENT
BEGIN:VEVENT
DTSTART;TZID=Europe/Dublin:20220516T140000
DTEND;TZID=Europe/Dublin:20220516T160000
DTSTAMP:20260424T125730
CREATED:20220516T162116Z
LAST-MODIFIED:20230425T104203Z
UID:12440-1652709600-1652716800@www.shielbagganoec.com
SUMMARY:U18 closed cockpit kayaking 2pm-4pm
DESCRIPTION:4 weeks of sessions 21st may\, 28th may\, 4th June and 11th June \n2 hour paddling sessions \nThis is the start of gaining moving water skills \nYou must have some experience of paddling at the hub before enrolling (e.g summer camp or Sat sessions)\, ring 051389550 if you are unsure. \nOn the Water at the Bunclody Adventure Hub \nArrive 15min before your session \nBring old trainers to get wet and get wet clothes (wetsuit if you have one) and a towel
URL:https://www.shielbagganoec.com/event/u18-closed-cockpit-kayaking-2pm-40m/
LOCATION:Y21 W5F7\, Ryland Road\, Bunclody\, Y21 W5F7\, Ireland
CATEGORIES:Bunclody
ATTACH;FMTTYPE=image/jpeg:https://www.shielbagganoec.com/wp-content/uploads/2016/11/banner-schools.jpg
ORGANIZER;CN="WWETB Outdoor Education":MAILTO:oe@wwetb.ie
END:VEVENT
BEGIN:VEVENT
DTSTART;TZID=Europe/Dublin:20220528T120000
DTEND;TZID=Europe/Dublin:20220528T130000
DTSTAMP:20260424T125730
CREATED:20220516T160031Z
LAST-MODIFIED:20230425T104600Z
UID:12434-1653739200-1653742800@www.shielbagganoec.com
SUMMARY:Wet and Wild 12.00-13.00
DESCRIPTION:3 weeks of sessions 21st may\, 28th may and 4th June \n1 hour paddling sessions “Wet and Wild” \nOn the Water at the Bunclody Adventure Hub \nArrive 15min before your session \nBring old trainers to get wet and get wet clothes (wetsuit if you have one) and a towel
URL:https://www.shielbagganoec.com/event/wet-and-wild-12-00-13-00/
LOCATION:Y21 W5F7\, Ryland Road\, Bunclody\, Y21 W5F7\, Ireland
CATEGORIES:Bunclody
ATTACH;FMTTYPE=image/jpeg:https://www.shielbagganoec.com/wp-content/uploads/2022/04/Bun.jpg
ORGANIZER;CN="WWETB Outdoor Education":MAILTO:oe@wwetb.ie
END:VEVENT
BEGIN:VEVENT
DTSTART;TZID=Europe/Dublin:20220528T093000
DTEND;TZID=Europe/Dublin:20220528T103000
DTSTAMP:20260424T125731
CREATED:20220509T143111Z
LAST-MODIFIED:20230425T103918Z
UID:12413-1653730200-1653733800@www.shielbagganoec.com
SUMMARY:Wet and Wild 9.30-10.30
DESCRIPTION:3 weeks of sessions 21st may\, 28th may and 4th June \n1 hour paddling sessions “Wet and Wild” \nOn the Water at the Bunclody Adventure Hub \nArrive 15min before your session \nBring old trainers to get wet and get wet clothes (wetsuit if you have one) and a towel
URL:https://www.shielbagganoec.com/event/wet-and-wild-9-30-10-30/
LOCATION:Y21 W5F7\, Ryland Road\, Bunclody\, Y21 W5F7\, Ireland
CATEGORIES:Bunclody
ATTACH;FMTTYPE=image/jpeg:https://www.shielbagganoec.com/wp-content/uploads/2022/04/Bun.jpg
ORGANIZER;CN="WWETB Outdoor Education":MAILTO:oe@wwetb.ie
END:VEVENT
BEGIN:VEVENT
DTSTART;TZID=Europe/Dublin:20220516T140000
DTEND;TZID=Europe/Dublin:20220516T160000
DTSTAMP:20260424T125731
CREATED:20220516T162116Z
LAST-MODIFIED:20230425T104203Z
UID:12440-1652709600-1652716800@www.shielbagganoec.com
SUMMARY:U18 closed cockpit kayaking 2pm-4pm
DESCRIPTION:4 weeks of sessions 21st may\, 28th may\, 4th June and 11th June \n2 hour paddling sessions \nThis is the start of gaining moving water skills \nYou must have some experience of paddling at the hub before enrolling (e.g summer camp or Sat sessions)\, ring 051389550 if you are unsure. \nOn the Water at the Bunclody Adventure Hub \nArrive 15min before your session \nBring old trainers to get wet and get wet clothes (wetsuit if you have one) and a towel
URL:https://www.shielbagganoec.com/event/u18-closed-cockpit-kayaking-2pm-40m/
LOCATION:Y21 W5F7\, Ryland Road\, Bunclody\, Y21 W5F7\, Ireland
CATEGORIES:Bunclody
ATTACH;FMTTYPE=image/jpeg:https://www.shielbagganoec.com/wp-content/uploads/2016/11/banner-schools.jpg
ORGANIZER;CN="WWETB Outdoor Education":MAILTO:oe@wwetb.ie
END:VEVENT
END:VCALENDAR