BEGIN:VCALENDAR
VERSION:2.0
PRODID:-// - ECPv6.15.20//NONSGML v1.0//EN
CALSCALE:GREGORIAN
METHOD:PUBLISH
X-ORIGINAL-URL:https://www.shielbagganoec.com
X-WR-CALDESC:Events for 
REFRESH-INTERVAL;VALUE=DURATION:PT1H
X-Robots-Tag:noindex
X-PUBLISHED-TTL:PT1H
BEGIN:VTIMEZONE
TZID:Europe/Dublin
BEGIN:DAYLIGHT
TZOFFSETFROM:+0000
TZOFFSETTO:+0100
TZNAME:IST
DTSTART:20210328T010000
END:DAYLIGHT
BEGIN:STANDARD
TZOFFSETFROM:+0100
TZOFFSETTO:+0000
TZNAME:GMT
DTSTART:20211031T010000
END:STANDARD
BEGIN:DAYLIGHT
TZOFFSETFROM:+0000
TZOFFSETTO:+0100
TZNAME:IST
DTSTART:20220327T010000
END:DAYLIGHT
BEGIN:STANDARD
TZOFFSETFROM:+0100
TZOFFSETTO:+0000
TZNAME:GMT
DTSTART:20221030T010000
END:STANDARD
BEGIN:DAYLIGHT
TZOFFSETFROM:+0000
TZOFFSETTO:+0100
TZNAME:IST
DTSTART:20230326T010000
END:DAYLIGHT
BEGIN:STANDARD
TZOFFSETFROM:+0100
TZOFFSETTO:+0000
TZNAME:GMT
DTSTART:20231029T010000
END:STANDARD
END:VTIMEZONE
BEGIN:VEVENT
DTSTART;TZID=Europe/Dublin:20220702T094500
DTEND;TZID=Europe/Dublin:20220702T110000
DTSTAMP:20260422T144233
CREATED:20220629T131317Z
LAST-MODIFIED:20220701T094159Z
UID:12724-1656755100-1656759600@www.shielbagganoec.com
SUMMARY:42734(7) Wet and Wild 9.45-11.00
DESCRIPTION:3 weeks of sessions 2nd July\, 9th  and 16th June \nover an of hour paddling session “Wet and Wild” \nOn the Water at the Bunclody Adventure Hub \nArrive 15min before your session \nBring old trainers to get wet and get wet clothes (wetsuit if you have one) and a towel
URL:https://www.shielbagganoec.com/event/427347-wet-and-wild-9-45-11-00/
LOCATION:Y21 W5F7\, Ryland Road\, Bunclody\, Y21 W5F7\, Ireland
CATEGORIES:Bunclody
ATTACH;FMTTYPE=image/jpeg:https://www.shielbagganoec.com/wp-content/uploads/2022/04/Bun.jpg
ORGANIZER;CN="WWETB Outdoor Education":MAILTO:oe@wwetb.ie
END:VEVENT
BEGIN:VEVENT
DTSTART;TZID=Europe/Dublin:20220702T113000
DTEND;TZID=Europe/Dublin:20220702T130000
DTSTAMP:20260422T144233
CREATED:20220629T131613Z
LAST-MODIFIED:20220701T094318Z
UID:12731-1656761400-1656766800@www.shielbagganoec.com
SUMMARY:42734(7) Wet and Wild 11.30 - 13.00
DESCRIPTION:3 weeks of sessions 2nd July\, 9th  and 16th June \nover an of hour paddling session “Wet and Wild” \nOn the Water at the Bunclody Adventure Hub \nArrive 15min before your session \nBring old trainers to get wet and get wet clothes (wetsuit if you have one) and a towel
URL:https://www.shielbagganoec.com/event/427347-wet-and-wild-9-45-11-35-13-00/
LOCATION:Y21 W5F7\, Ryland Road\, Bunclody\, Y21 W5F7\, Ireland
CATEGORIES:Bunclody
ATTACH;FMTTYPE=image/jpeg:https://www.shielbagganoec.com/wp-content/uploads/2022/04/Bun.jpg
ORGANIZER;CN="WWETB Outdoor Education":MAILTO:oe@wwetb.ie
END:VEVENT
BEGIN:VEVENT
DTSTART;TZID=Europe/Dublin:20220713T100000
DTEND;TZID=Europe/Dublin:20220715T123000
DTSTAMP:20260422T144233
CREATED:20220614T095046Z
LAST-MODIFIED:20220614T095046Z
UID:12564-1657706400-1657888200@www.shielbagganoec.com
SUMMARY:42748 Paddlesports Summer Camp Morning 10-12.30am (Age 10-13)
DESCRIPTION:Paddlesports camp. Kayaking\, Canoeing\, Stand up paddleboards. \nLots of fun in and on the water . These camps aim to give participants a memorable paddling experience in a fun and safe environment whilst giving a good foundation in paddlesport. Also these are great for meeting others and water confidence. \nStudents will be supplied with all technical equipment needed such as a wetsuit\, buoyancy aid or personal flotation device (PFD)\, helmet and cagoule or windproof jacket however as Kayaking is a wet sport there is a real possibility course participants will get wet during the sessions so each participant is advised to bring with them the following personal gear \n\nTowel\nSwimwear – bring your own wetsuit if you have one.\nThermal top or t-shirt\nSuitable footwear – bootees or an old pair of runners
URL:https://www.shielbagganoec.com/event/42748-paddlesports-summer-camp-morning-10-12-30am-age-10-13/
LOCATION:Y21 W5F7\, Ryland Road\, Bunclody\, Y21 W5F7\, Ireland
CATEGORIES:Bunclody
ATTACH;FMTTYPE=image/jpeg:https://www.shielbagganoec.com/wp-content/uploads/2022/04/Bun.jpg
ORGANIZER;CN="WWETB Outdoor Education":MAILTO:oe@wwetb.ie
END:VEVENT
BEGIN:VEVENT
DTSTART;TZID=Europe/Dublin:20220725T130000
DTEND;TZID=Europe/Dublin:20220729T160000
DTSTAMP:20260422T144233
CREATED:20220616T111835Z
LAST-MODIFIED:20220720T090100Z
UID:12695-1658754000-1659110400@www.shielbagganoec.com
SUMMARY:J43149 (12-16) Beginners Mountain Bike Summer Programme (with Bike)
DESCRIPTION:4 day for age 12-16 Camp with Bike rental included. \nThis will be subject to a safety & suitability check\, any queries ring 051389550 \n25th\, 26th\, 27th July (morning session 9.30-12.30) \n28th July (full day trip) \nFirst 3 days are based from Carrigfoyle Quarry in and around Forth Mountain. Learning MTB skills and techniques. \nThursday is a full day trip to a mountain bike Location. \nOur professional and very experienced instructors mean this is the best way to learn to Mountain Bike and meet other Mountain bikers. \nAll equipment provided. \nCall 051389550 for more info.
URL:https://www.shielbagganoec.com/event/43149-15-18-beginners-mountain-bike-summer-programme-without-bike/
LOCATION:Carrigfoyle Quarry\, Carrigfoyle Quarry\, Barntown\, Ireland
CATEGORIES:Forth Mountain
ATTACH;FMTTYPE=image/jpeg:https://www.shielbagganoec.com/wp-content/uploads/2022/06/IMG_20210728_140409-scaled.jpg
ORGANIZER;CN="WWETB Outdoor Education":MAILTO:oe@wwetb.ie
END:VEVENT
BEGIN:VEVENT
DTSTART;TZID=Europe/Dublin:20220730T094500
DTEND;TZID=Europe/Dublin:20220730T110000
DTSTAMP:20260422T144233
CREATED:20220712T141054Z
LAST-MODIFIED:20220726T111550Z
UID:12751-1659174300-1659178800@www.shielbagganoec.com
SUMMARY:44111(8) Wet and Wild 9.45 - 11.00
DESCRIPTION:3 weeks of sessions 23rd July\, 30th  July and 6th August \nover an of hour paddling session “Wet and Wild” \nOn the Water at the Bunclody Adventure Hub \nArrive 15min before your session \nBring old trainers to get wet and get wet clothes (wetsuit if you have one) and a towel
URL:https://www.shielbagganoec.com/event/441118-wet-and-wild-9-45-11-00/
LOCATION:Y21 W5F7\, Ryland Road\, Bunclody\, Y21 W5F7\, Ireland
CATEGORIES:Bunclody
ATTACH;FMTTYPE=image/jpeg:https://www.shielbagganoec.com/wp-content/uploads/2022/04/Bun.jpg
ORGANIZER;CN="WWETB Outdoor Education":MAILTO:oe@wwetb.ie
END:VEVENT
BEGIN:VEVENT
DTSTART;TZID=Europe/Dublin:20220730T114500
DTEND;TZID=Europe/Dublin:20220730T130000
DTSTAMP:20260422T144233
CREATED:20220712T135818Z
LAST-MODIFIED:20220726T111420Z
UID:12746-1659181500-1659186000@www.shielbagganoec.com
SUMMARY:44111(8) Wet and Wild 11.45 - 13.00
DESCRIPTION:3 weeks of sessions 23rd July\, 30th  July and 6th August \nover an of hour paddling session “Wet and Wild” \nOn the Water at the Bunclody Adventure Hub \nArrive 15min before your session \nBring old trainers to get wet and get wet clothes (wetsuit if you have one) and a towel
URL:https://www.shielbagganoec.com/event/441118-wet-and-wild-11-45-13-00/
LOCATION:Y21 W5F7\, Ryland Road\, Bunclody\, Y21 W5F7\, Ireland
CATEGORIES:Bunclody
ATTACH;FMTTYPE=image/jpeg:https://www.shielbagganoec.com/wp-content/uploads/2022/04/Bun.jpg
ORGANIZER;CN="WWETB Outdoor Education":MAILTO:oe@wwetb.ie
END:VEVENT
BEGIN:VEVENT
DTSTART;TZID=Europe/Dublin:20220730T140000
DTEND;TZID=Europe/Dublin:20220730T160000
DTSTAMP:20260422T144233
CREATED:20220712T141822Z
LAST-MODIFIED:20220726T111255Z
UID:12754-1659189600-1659196800@www.shielbagganoec.com
SUMMARY:44111 (6) Closed Cockpit Kayaking 2pm-4pm
DESCRIPTION:2 hour paddling sessions \nThis is the start of gaining moving water skills \nYou must have some experience of paddling at the hub before enrolling \, ring 051389550 if you are unsure. \nOn the Water at the Bunclody Adventure Hub \nopen to everyone 10+
URL:https://www.shielbagganoec.com/event/44111-6-closed-cockpit-kayaking-2pm-4pm/
LOCATION:Y21 W5F7\, Ryland Road\, Bunclody\, Y21 W5F7\, Ireland
CATEGORIES:Bunclody
ATTACH;FMTTYPE=image/jpeg:https://www.shielbagganoec.com/wp-content/uploads/2022/06/IMG_2711-scaled.jpg
ORGANIZER;CN="WWETB Outdoor Education":MAILTO:oe@wwetb.ie
END:VEVENT
END:VCALENDAR