BEGIN:VCALENDAR
VERSION:2.0
PRODID:-// - ECPv6.15.20//NONSGML v1.0//EN
CALSCALE:GREGORIAN
METHOD:PUBLISH
X-ORIGINAL-URL:https://www.shielbagganoec.com
X-WR-CALDESC:Events for 
REFRESH-INTERVAL;VALUE=DURATION:PT1H
X-Robots-Tag:noindex
X-PUBLISHED-TTL:PT1H
BEGIN:VTIMEZONE
TZID:Europe/Dublin
BEGIN:DAYLIGHT
TZOFFSETFROM:+0000
TZOFFSETTO:+0100
TZNAME:IST
DTSTART:20210328T010000
END:DAYLIGHT
BEGIN:STANDARD
TZOFFSETFROM:+0100
TZOFFSETTO:+0000
TZNAME:GMT
DTSTART:20211031T010000
END:STANDARD
BEGIN:DAYLIGHT
TZOFFSETFROM:+0000
TZOFFSETTO:+0100
TZNAME:IST
DTSTART:20220327T010000
END:DAYLIGHT
BEGIN:STANDARD
TZOFFSETFROM:+0100
TZOFFSETTO:+0000
TZNAME:GMT
DTSTART:20221030T010000
END:STANDARD
BEGIN:DAYLIGHT
TZOFFSETFROM:+0000
TZOFFSETTO:+0100
TZNAME:IST
DTSTART:20230326T010000
END:DAYLIGHT
BEGIN:STANDARD
TZOFFSETFROM:+0100
TZOFFSETTO:+0000
TZNAME:GMT
DTSTART:20231029T010000
END:STANDARD
END:VTIMEZONE
BEGIN:VEVENT
DTSTART;TZID=Europe/Dublin:20220625T100000
DTEND;TZID=Europe/Dublin:20220625T160000
DTSTAMP:20260422T215726
CREATED:20220614T120939Z
LAST-MODIFIED:20220615T132116Z
UID:12590-1656151200-1656172800@www.shielbagganoec.com
SUMMARY:44109 Bunclody Paddle-Sports Club Level 3 skills training
DESCRIPTION:Level 3 Skills development day for Bunclody Paddle-Sports Club \nBased at Clashganny on the Barrow \nAdults only any queries contact the club
URL:https://www.shielbagganoec.com/event/44109-bunclody-paddle-sports-club-level-3-skills-training/
LOCATION:clashganny
CATEGORIES:Bunclody
ATTACH;FMTTYPE=image/jpeg:https://www.shielbagganoec.com/wp-content/uploads/2022/06/IMG_3010-scaled.jpg
ORGANIZER;CN="WWETB Outdoor Education":MAILTO:oe@wwetb.ie
END:VEVENT
END:VCALENDAR