BEGIN:VCALENDAR
VERSION:2.0
PRODID:-// - ECPv6.15.20//NONSGML v1.0//EN
CALSCALE:GREGORIAN
METHOD:PUBLISH
X-ORIGINAL-URL:https://www.shielbagganoec.com
X-WR-CALDESC:Events for 
REFRESH-INTERVAL;VALUE=DURATION:PT1H
X-Robots-Tag:noindex
X-PUBLISHED-TTL:PT1H
BEGIN:VTIMEZONE
TZID:Europe/Dublin
BEGIN:DAYLIGHT
TZOFFSETFROM:+0000
TZOFFSETTO:+0100
TZNAME:IST
DTSTART:20210328T010000
END:DAYLIGHT
BEGIN:STANDARD
TZOFFSETFROM:+0100
TZOFFSETTO:+0000
TZNAME:GMT
DTSTART:20211031T010000
END:STANDARD
BEGIN:DAYLIGHT
TZOFFSETFROM:+0000
TZOFFSETTO:+0100
TZNAME:IST
DTSTART:20220327T010000
END:DAYLIGHT
BEGIN:STANDARD
TZOFFSETFROM:+0100
TZOFFSETTO:+0000
TZNAME:GMT
DTSTART:20221030T010000
END:STANDARD
BEGIN:DAYLIGHT
TZOFFSETFROM:+0000
TZOFFSETTO:+0100
TZNAME:IST
DTSTART:20230326T010000
END:DAYLIGHT
BEGIN:STANDARD
TZOFFSETFROM:+0100
TZOFFSETTO:+0000
TZNAME:GMT
DTSTART:20231029T010000
END:STANDARD
END:VTIMEZONE
BEGIN:VEVENT
DTSTART;TZID=Europe/Dublin:20220815T093000
DTEND;TZID=Europe/Dublin:20220819T160000
DTSTAMP:20260422T144952
CREATED:20220616T111258Z
LAST-MODIFIED:20220803T193845Z
UID:12692-1660555800-1660924800@www.shielbagganoec.com
SUMMARY:A43150 (12-14) Beginners Mountain Bike Summer Programme (without Bike)
DESCRIPTION:4 day for age 12-16 Camp bringing your own Bike. \nThis will be subject to a safety & suitability check\, any queries ring 051389550 \n15th\, 16th\, 17th August (morning session 9.30-12.30) \n18th August (full day trip) \nFirst 3 days are based from Carrigfoyle Quarry in and around Forth Mountain. Learning MTB skills and techniques. \nThursday is a full day trip to a mountain bike Location. \nOur professional and very experienced instructors mean this is the best way to learn to Mountain Bike and meet other Mountain bikers. \nAll equipment provided. \nCall 051389550 for more info.
URL:https://www.shielbagganoec.com/event/43150-15-18-beginners-mountain-bike-summer-programme-without-bike/
LOCATION:Carrigfoyle Quarry\, Carrigfoyle Quarry\, Barntown\, Ireland
CATEGORIES:Forth Mountain
ATTACH;FMTTYPE=image/jpeg:https://www.shielbagganoec.com/wp-content/uploads/2022/06/IMG_20210728_140409-scaled.jpg
ORGANIZER;CN="WWETB Outdoor Education":MAILTO:oe@wwetb.ie
END:VEVENT
BEGIN:VEVENT
DTSTART;TZID=Europe/Dublin:20220815T130000
DTEND;TZID=Europe/Dublin:20220819T160000
DTSTAMP:20260422T144952
CREATED:20220616T110950Z
LAST-MODIFIED:20220803T193723Z
UID:12689-1660568400-1660924800@www.shielbagganoec.com
SUMMARY:A43150 (12-14)Beginners Mountain Bike Summer Programme (with Bike)
DESCRIPTION:4 day Camp for age 12-14 with mountain bike rental included. \n15th\, 16th\, 17th August (Afternoon session 1pm-4pm) \n19th August (full day trip) \nFirst 3 days are based from Carrigfoyle Quarry in and around Forth Mountain. Learning MTB skills and techniques. \nThursday is a full day trip to a mountain bike Location. \nOur professional and very experienced instructors mean this is the best way to learn to Mountain Bike and meet other Mountain bikers. \nAll equipment provided. \nCall 051389550 for more info.
URL:https://www.shielbagganoec.com/event/43150-15-18beginners-mountain-bike-summer-programme-with-bike/
LOCATION:Carrigfoyle Quarry\, Carrigfoyle Quarry\, Barntown\, Ireland
CATEGORIES:Forth Mountain
ATTACH;FMTTYPE=image/jpeg:https://www.shielbagganoec.com/wp-content/uploads/2022/06/IMG_20210728_140409-scaled.jpg
ORGANIZER;CN="WWETB Outdoor Education":MAILTO:oe@wwetb.ie
END:VEVENT
BEGIN:VEVENT
DTSTART;TZID=Europe/Dublin:20220817T100000
DTEND;TZID=Europe/Dublin:20220819T123000
DTSTAMP:20260422T144952
CREATED:20220614T101147Z
LAST-MODIFIED:20220614T101356Z
UID:12581-1660730400-1660912200@www.shielbagganoec.com
SUMMARY:42751 Paddlesports Summer Camp Morning 10-12.30am (Age 10-13)
DESCRIPTION:Paddlesports camp. Kayaking\, Canoeing\, Stand up paddleboards. \nLots of fun in and on the water . These camps aim to give participants a memorable paddling experience in a fun and safe environment whilst giving a good foundation in paddlesport. Also these are great for meeting others and water confidence. \nStudents will be supplied with all technical equipment needed such as a wetsuit\, buoyancy aid or personal flotation device (PFD)\, helmet and cagoule or windproof jacket however as Kayaking is a wet sport there is a real possibility course participants will get wet during the sessions so each participant is advised to bring with them the following personal gear \n\nTowel\nSwimwear – bring your own wetsuit if you have one.\nThermal top or t-shirt\nSuitable footwear – bootees or an old pair of runners
URL:https://www.shielbagganoec.com/event/42751-paddlesports-summer-camp-morning-10-12-30am-age-10-13/
LOCATION:Y21 W5F7\, Ryland Road\, Bunclody\, Y21 W5F7\, Ireland
CATEGORIES:Bunclody
ATTACH;FMTTYPE=image/jpeg:https://www.shielbagganoec.com/wp-content/uploads/2022/04/Bun.jpg
ORGANIZER;CN="WWETB Outdoor Education":MAILTO:oe@wwetb.ie
END:VEVENT
BEGIN:VEVENT
DTSTART;TZID=Europe/Dublin:20220817T133000
DTEND;TZID=Europe/Dublin:20220819T160000
DTSTAMP:20260422T144952
CREATED:20220614T100331Z
LAST-MODIFIED:20220614T100432Z
UID:12574-1660743000-1660924800@www.shielbagganoec.com
SUMMARY:42751 Paddlesports Summer Camp Afternoon 1.30-4.00pm (Age 14+)
DESCRIPTION:Paddlesports camp. Kayaking\, Stand up paddleboards. This camp will be working towards skills acquisition. \nLots of fun in and on the water . These camps aim to give participants a memorable paddling experience in a fun and safe environment whilst giving a good foundation in paddlesport. Also these are great for meeting others and water confidence. \nStudents will be supplied with all technical equipment needed such as a wetsuit\, buoyancy aid or personal flotation device (PFD)\, helmet and cagoule or windproof jacket however as Kayaking is a wet sport there is a real possibility course participants will get wet during the sessions so each participant is advised to bring with them the following personal gear \n\nTowel\nSwimwear – bring your own wetsuit if you have one.\nThermal top or t-shirt\nSuitable footwear – bootees or an old pair of runners
URL:https://www.shielbagganoec.com/event/42751-paddlesports-summer-camp-afternoon-1-30-4-00pm-age-14/
LOCATION:Y21 W5F7\, Ryland Road\, Bunclody\, Y21 W5F7\, Ireland
CATEGORIES:Bunclody
ATTACH;FMTTYPE=image/jpeg:https://www.shielbagganoec.com/wp-content/uploads/2022/04/Bun.jpg
ORGANIZER;CN="WWETB Outdoor Education":MAILTO:oe@wwetb.ie
END:VEVENT
END:VCALENDAR