BEGIN:VCALENDAR
VERSION:2.0
PRODID:-// - ECPv6.15.20//NONSGML v1.0//EN
CALSCALE:GREGORIAN
METHOD:PUBLISH
X-ORIGINAL-URL:https://www.shielbagganoec.com
X-WR-CALDESC:Events for 
REFRESH-INTERVAL;VALUE=DURATION:PT1H
X-Robots-Tag:noindex
X-PUBLISHED-TTL:PT1H
BEGIN:VTIMEZONE
TZID:Europe/Dublin
BEGIN:DAYLIGHT
TZOFFSETFROM:+0000
TZOFFSETTO:+0100
TZNAME:IST
DTSTART:20230326T010000
END:DAYLIGHT
BEGIN:STANDARD
TZOFFSETFROM:+0100
TZOFFSETTO:+0000
TZNAME:GMT
DTSTART:20231029T010000
END:STANDARD
BEGIN:DAYLIGHT
TZOFFSETFROM:+0000
TZOFFSETTO:+0100
TZNAME:IST
DTSTART:20240331T010000
END:DAYLIGHT
BEGIN:STANDARD
TZOFFSETFROM:+0100
TZOFFSETTO:+0000
TZNAME:GMT
DTSTART:20241027T010000
END:STANDARD
BEGIN:DAYLIGHT
TZOFFSETFROM:+0000
TZOFFSETTO:+0100
TZNAME:IST
DTSTART:20250330T010000
END:DAYLIGHT
BEGIN:STANDARD
TZOFFSETFROM:+0100
TZOFFSETTO:+0000
TZNAME:GMT
DTSTART:20251026T010000
END:STANDARD
END:VTIMEZONE
BEGIN:VEVENT
DTSTART;TZID=Europe/Dublin:20240821T130000
DTEND;TZID=Europe/Dublin:20240823T153000
DTSTAMP:20260421T005303
CREATED:20240731T102652Z
LAST-MODIFIED:20240801T100758Z
UID:13745-1724245200-1724427000@www.shielbagganoec.com
SUMMARY:50059- Kayaking Summer Camp 21st - 23rd August 1pm-3:20pm 13-15yrs
DESCRIPTION:Wednesday21st 1:00pm – 3:20pm\nThursday 22nd 1:00pm – 3:20pm\nFriday 23rd 1:00pm – 3:20pm\n\n3 afternoons of Sit on Top Kayaking\, Stand up Paddle Boarding\, Swimming\, River Safety Rescue techniques and building water confidence in a safe environment with lots of fun supervised by a qualified Kayak Instructor.\nWe provide shortie wetsuits\, helmets and bouyancy aids.\nPlease bring with you\, old runners (must be a full shoe) for the water\, swimsuit\, lots of snacks and something to drink.
URL:https://www.shielbagganoec.com/event/50059-kayaking-summer-camp-21st-23rd-august-1pm-320pm-13-15yrs/
LOCATION:Y21 W5F7\, Ryland Road\, Bunclody\, Y21 W5F7\, Ireland
CATEGORIES:Bunclody
ATTACH;FMTTYPE=image/jpeg:https://www.shielbagganoec.com/wp-content/uploads/2016/10/school-groups-header.jpg
ORGANIZER;CN="WWETB Outdoor Education":MAILTO:oe@wwetb.ie
END:VEVENT
END:VCALENDAR